BEGIN:VCALENDAR
VERSION:2.0
PRODID:-//Southern Eventing and Dressage Association - SEDA - ECPv6.15.20//NONSGML v1.0//EN
CALSCALE:GREGORIAN
METHOD:PUBLISH
X-ORIGINAL-URL:https://sedariders.org
X-WR-CALDESC:Events for Southern Eventing and Dressage Association - SEDA
REFRESH-INTERVAL;VALUE=DURATION:PT1H
X-Robots-Tag:noindex
X-PUBLISHED-TTL:PT1H
BEGIN:VTIMEZONE
TZID:America/Chicago
BEGIN:DAYLIGHT
TZOFFSETFROM:-0600
TZOFFSETTO:-0500
TZNAME:CDT
DTSTART:20250309T080000
END:DAYLIGHT
BEGIN:STANDARD
TZOFFSETFROM:-0500
TZOFFSETTO:-0600
TZNAME:CST
DTSTART:20251102T070000
END:STANDARD
BEGIN:DAYLIGHT
TZOFFSETFROM:-0600
TZOFFSETTO:-0500
TZNAME:CDT
DTSTART:20260308T080000
END:DAYLIGHT
BEGIN:STANDARD
TZOFFSETFROM:-0500
TZOFFSETTO:-0600
TZNAME:CST
DTSTART:20261101T070000
END:STANDARD
BEGIN:DAYLIGHT
TZOFFSETFROM:-0600
TZOFFSETTO:-0500
TZNAME:CDT
DTSTART:20270314T080000
END:DAYLIGHT
BEGIN:STANDARD
TZOFFSETFROM:-0500
TZOFFSETTO:-0600
TZNAME:CST
DTSTART:20271107T070000
END:STANDARD
END:VTIMEZONE
BEGIN:VEVENT
DTSTART;VALUE=DATE:20260124
DTEND;VALUE=DATE:20260126
DTSTAMP:20260420T041025
CREATED:20250430T195611Z
LAST-MODIFIED:20250430T195611Z
UID:26571-1769212800-1769385599@sedariders.org
SUMMARY:SEDA Schooling Dressage Championships
DESCRIPTION:Join us for the Schooling Dressage Championships!
URL:https://sedariders.org/event/seda-schooling-dressage-championships-5/
LOCATION:Amen Corner Farm\, 27519 Polo Rd\, Folsom\, LA\, 70437\, United States
CATEGORIES:SEDA Event,SEDA-Recognized Event
ORGANIZER;CN="Judi Dauterive":MAILTO:ponyparade@hotmail.com
END:VEVENT
BEGIN:VEVENT
DTSTART;TZID=America/Chicago:20260131T170000
DTEND;TZID=America/Chicago:20260131T210000
DTSTAMP:20260420T041025
CREATED:20250317T213008Z
LAST-MODIFIED:20250505T211407Z
UID:26514-1769878800-1769893200@sedariders.org
SUMMARY:SEDA Annual Awards Banquet
DESCRIPTION:Join us for the annual bash celebrating your achievements. This year\, we’re celebrating our Golden Anniversary … so our theme is GOLD! However you want to interpret that !! \n$60per person\nCash bar\nDoors open at 5:00PM\nProgram starts 5:30PM\nDinner 6:00PM \nRaffles\, door prizes\, and entertainment!
URL:https://sedariders.org/event/seda-annual-awards-banquet/
LOCATION:Covington Country Club\, 200 Country Club Dr\, Covington\, LA\, 70433\, United States
CATEGORIES:SEDA Event
ORGANIZER;CN="Nicole Miller":MAILTO:vicepres@sedariders.org
END:VEVENT
END:VCALENDAR