BEGIN:VCALENDAR
VERSION:2.0
PRODID:-//Southern Eventing and Dressage Association - SEDA - ECPv6.15.20//NONSGML v1.0//EN
CALSCALE:GREGORIAN
METHOD:PUBLISH
X-ORIGINAL-URL:https://sedariders.org
X-WR-CALDESC:Events for Southern Eventing and Dressage Association - SEDA
REFRESH-INTERVAL;VALUE=DURATION:PT1H
X-Robots-Tag:noindex
X-PUBLISHED-TTL:PT1H
BEGIN:VTIMEZONE
TZID:America/Chicago
BEGIN:DAYLIGHT
TZOFFSETFROM:-0600
TZOFFSETTO:-0500
TZNAME:CDT
DTSTART:20240310T080000
END:DAYLIGHT
BEGIN:STANDARD
TZOFFSETFROM:-0500
TZOFFSETTO:-0600
TZNAME:CST
DTSTART:20241103T070000
END:STANDARD
BEGIN:DAYLIGHT
TZOFFSETFROM:-0600
TZOFFSETTO:-0500
TZNAME:CDT
DTSTART:20250309T080000
END:DAYLIGHT
BEGIN:STANDARD
TZOFFSETFROM:-0500
TZOFFSETTO:-0600
TZNAME:CST
DTSTART:20251102T070000
END:STANDARD
BEGIN:DAYLIGHT
TZOFFSETFROM:-0600
TZOFFSETTO:-0500
TZNAME:CDT
DTSTART:20260308T080000
END:DAYLIGHT
BEGIN:STANDARD
TZOFFSETFROM:-0500
TZOFFSETTO:-0600
TZNAME:CST
DTSTART:20261101T070000
END:STANDARD
END:VTIMEZONE
BEGIN:VEVENT
DTSTART;VALUE=DATE:20250614
DTEND;VALUE=DATE:20250615
DTSTAMP:20260420T130127
CREATED:20241025T215813Z
LAST-MODIFIED:20241025T215813Z
UID:26228-1749859200-1749945599@sedariders.org
SUMMARY:Eventing in a Day and Dressage Only
DESCRIPTION:Schooling horse trials and dressage
URL:https://sedariders.org/event/eventing-in-a-day-and-dressage-only/
LOCATION:Lagniappe Equestrian Center\, 13349 Verger Road\, Folsom\, LA\, 70437\, United States
CATEGORIES:SEDA-Recognized Event
ORGANIZER;CN="Sharon Londono":MAILTO:lagniappefarm@bellsouth.net
END:VEVENT
BEGIN:VEVENT
DTSTART;VALUE=DATE:20250628
DTEND;VALUE=DATE:20250629
DTSTAMP:20260420T130127
CREATED:20250416T221614Z
LAST-MODIFIED:20250416T221614Z
UID:26544-1751068800-1751155199@sedariders.org
SUMMARY:SPORTHORSE HANDLING CLINIC WITH CHRISTINE SMITH
DESCRIPTION: CHRISTINE SMITH USDF Certified Clinician for in-hand showing  \nMember\, USDF Sport Horse Committee. Educates breeders\, owners\, handlers\, trainers\, and judges about the ideals of dressage sport horse prospects and breeding stock. Encourages the efforts of USDF member breeders in producing the highest quality dressage sport horses. Provides dressage sport horse competition management\, owners\, and breeders with competition guidelines and opportunities. Nurtures and develops future generations for the dressage sport horse breeding industry.  \nFlyer
URL:https://sedariders.org/event/sporthorse-handling-clinic-with-christine-smith/
LOCATION:Kalie Beckers Dressage\, Folsom\, LA\, 70437\, United States
CATEGORIES:SEDA Event,SEDA-Recognized Event
ORGANIZER;CN="Judi Dauterive":MAILTO:ponyparade@hotmail.com
END:VEVENT
END:VCALENDAR