BEGIN:VCALENDAR
VERSION:2.0
PRODID:-//Southern Eventing and Dressage Association - SEDA - ECPv6.15.20//NONSGML v1.0//EN
CALSCALE:GREGORIAN
METHOD:PUBLISH
X-ORIGINAL-URL:https://sedariders.org
X-WR-CALDESC:Events for Southern Eventing and Dressage Association - SEDA
REFRESH-INTERVAL;VALUE=DURATION:PT1H
X-Robots-Tag:noindex
X-PUBLISHED-TTL:PT1H
BEGIN:VTIMEZONE
TZID:America/Chicago
BEGIN:DAYLIGHT
TZOFFSETFROM:-0600
TZOFFSETTO:-0500
TZNAME:CDT
DTSTART:20230312T080000
END:DAYLIGHT
BEGIN:STANDARD
TZOFFSETFROM:-0500
TZOFFSETTO:-0600
TZNAME:CST
DTSTART:20231105T070000
END:STANDARD
BEGIN:DAYLIGHT
TZOFFSETFROM:-0600
TZOFFSETTO:-0500
TZNAME:CDT
DTSTART:20240310T080000
END:DAYLIGHT
BEGIN:STANDARD
TZOFFSETFROM:-0500
TZOFFSETTO:-0600
TZNAME:CST
DTSTART:20241103T070000
END:STANDARD
BEGIN:DAYLIGHT
TZOFFSETFROM:-0600
TZOFFSETTO:-0500
TZNAME:CDT
DTSTART:20250309T080000
END:DAYLIGHT
BEGIN:STANDARD
TZOFFSETFROM:-0500
TZOFFSETTO:-0600
TZNAME:CST
DTSTART:20251102T070000
END:STANDARD
END:VTIMEZONE
BEGIN:VEVENT
DTSTART;VALUE=DATE:20241102
DTEND;VALUE=DATE:20241103
DTSTAMP:20260421T175628
CREATED:20231004T002400Z
LAST-MODIFIED:20231004T002400Z
UID:25817-1730505600-1730591999@sedariders.org
SUMMARY:LEC Combined Test with Dressage Only
DESCRIPTION:
URL:https://sedariders.org/event/lec-combined-test-with-dressage-only-3/
LOCATION:Lagniappe Equestrian Center\, 13349 Verger Road\, Folsom\, LA\, 70437\, United States
CATEGORIES:SEDA-Recognized Event
ORGANIZER;CN="Sharon Londono":MAILTO:lagniappefarm@bellsouth.net
END:VEVENT
BEGIN:VEVENT
DTSTART;VALUE=DATE:20241116
DTEND;VALUE=DATE:20241118
DTSTAMP:20260421T175628
CREATED:20240426T004325Z
LAST-MODIFIED:20240705T193631Z
UID:26050-1731715200-1731887999@sedariders.org
SUMMARY:Cross Country Equestrian Workshop
DESCRIPTION:Cross Country Equestrian Workshop – RESCHEDULED FOR NOVEMBER 16-17\nCome find out about this new discipline which combines stadium and cross country. The workshop will be held at Lagniappe Equestrian Center. All ages and levels welcome! \nSIGN UP HERE \nAdditional details on this flyer. For more information\, see the CCE website\, view the guide\, or look at the workshop worksheet. \nWe hope to see you there!
URL:https://sedariders.org/event/cross-country-equestrian-workshop/
LOCATION:Lagniappe Equestrian Center\, 13349 Verger Road\, Folsom\, LA\, 70437\, United States
CATEGORIES:SEDA Event
ORGANIZER;CN="Sharon Londono":MAILTO:lagniappefarm@bellsouth.net
END:VEVENT
BEGIN:VEVENT
DTSTART;VALUE=DATE:20241123
DTEND;VALUE=DATE:20241125
DTSTAMP:20260421T175628
CREATED:20231004T002558Z
LAST-MODIFIED:20231212T014519Z
UID:25821-1732320000-1732492799@sedariders.org
SUMMARY:Le Bon Temps
DESCRIPTION:Licensed Dressage Show
URL:https://sedariders.org/event/le-bon-temps-3/
LOCATION:Amen Corner Farm\, 27519 Polo Rd\, Folsom\, LA\, 70437\, United States
CATEGORIES:SEDA Event,SEDA-Recognized Event
ORGANIZER;CN="Judi Dauterive":MAILTO:ponyparade@hotmail.com
END:VEVENT
END:VCALENDAR