BEGIN:VCALENDAR
VERSION:2.0
PRODID:-//Southern Eventing and Dressage Association - SEDA - ECPv6.15.20//NONSGML v1.0//EN
CALSCALE:GREGORIAN
METHOD:PUBLISH
X-ORIGINAL-URL:https://sedariders.org
X-WR-CALDESC:Events for Southern Eventing and Dressage Association - SEDA
REFRESH-INTERVAL;VALUE=DURATION:PT1H
X-Robots-Tag:noindex
X-PUBLISHED-TTL:PT1H
BEGIN:VTIMEZONE
TZID:America/Chicago
BEGIN:DAYLIGHT
TZOFFSETFROM:-0600
TZOFFSETTO:-0500
TZNAME:CDT
DTSTART:20230312T080000
END:DAYLIGHT
BEGIN:STANDARD
TZOFFSETFROM:-0500
TZOFFSETTO:-0600
TZNAME:CST
DTSTART:20231105T070000
END:STANDARD
BEGIN:DAYLIGHT
TZOFFSETFROM:-0600
TZOFFSETTO:-0500
TZNAME:CDT
DTSTART:20240310T080000
END:DAYLIGHT
BEGIN:STANDARD
TZOFFSETFROM:-0500
TZOFFSETTO:-0600
TZNAME:CST
DTSTART:20241103T070000
END:STANDARD
BEGIN:DAYLIGHT
TZOFFSETFROM:-0600
TZOFFSETTO:-0500
TZNAME:CDT
DTSTART:20250309T080000
END:DAYLIGHT
BEGIN:STANDARD
TZOFFSETFROM:-0500
TZOFFSETTO:-0600
TZNAME:CST
DTSTART:20251102T070000
END:STANDARD
END:VTIMEZONE
BEGIN:VEVENT
DTSTART;VALUE=DATE:20240309
DTEND;VALUE=DATE:20240311
DTSTAMP:20260422T042808
CREATED:20231109T031932Z
LAST-MODIFIED:20231109T031932Z
UID:25866-1709942400-1710115199@sedariders.org
SUMMARY:Spring Fleur de Leap
DESCRIPTION:Schooling Horse trials\, combined test\, and dressage show
URL:https://sedariders.org/event/spring-fleur-de-leap-2/
LOCATION:Lagniappe Equestrian Center\, 13349 Verger Road\, Folsom\, LA\, 70437\, United States
CATEGORIES:SEDA Event,SEDA-Recognized Event
ORGANIZER;CN="Emily Embree":MAILTO:eventing@sedariders.org
END:VEVENT
BEGIN:VEVENT
DTSTART;VALUE=DATE:20240316
DTEND;VALUE=DATE:20240318
DTSTAMP:20260422T042808
CREATED:20231024T221509Z
LAST-MODIFIED:20231025T165754Z
UID:25838-1710547200-1710719999@sedariders.org
SUMMARY:The First Dance Licensed Dressage
DESCRIPTION:
URL:https://sedariders.org/event/the-first-dance-licensed-dressage/
LOCATION:Amen Corner Farm\, 27519 Polo Rd\, Folsom\, LA\, 70437\, United States
CATEGORIES:SEDA-Recognized Event
ORGANIZER;CN="Judi Dauterive":MAILTO:ponyparade@hotmail.com
END:VEVENT
BEGIN:VEVENT
DTSTART;TZID=America/Chicago:20240319T183000
DTEND;TZID=America/Chicago:20240319T200000
DTSTAMP:20260422T042808
CREATED:20240229T004050Z
LAST-MODIFIED:20240229T004050Z
UID:26001-1710873000-1710878400@sedariders.org
SUMMARY:Pilates for Riders
DESCRIPTION:Download Flyer \nDo you want to be a stronger\, better balanced rider? Who doesn’t?!! Join us in the studio at Ivy Vitality in downtown Folsom and learn how Pilates can help you become a better rider through core strength and flexibility. Class is limited to 10 spots; additional classes may be added if interest warrants. Register early to reserve your space. \nDate: March 19\, 2024 \nTime: 6:30PM-approximately 8:00PM \nCost: $20 per person (cash or check accepted evening of the event) \nLocation: Ivy Vitality\n82252 Highway 25\nFolsom\, LA 70437 \nBring: Yoga mat\, towel\, & water \nRegister: Contact Nicole Miller (vicepres@sedariders.org 504-458-6794) to reserve your space) \nWhat to expect:\nDr. Christina will provide a short lecture on the benefits of Pilates for riders\, followed by the exercises. No experience necessary. This class is appropriate for all ages. Herbal tea will be provided. We hope that there is enough interest that we could have an ongoing Pilates for Riders class! Come out and see the benefits of this exercise program!
URL:https://sedariders.org/event/pilates-for-riders/
LOCATION:Ivy Vitality\, 82252 Highway 25\, Folsom\, LA\, 70437\, United States
CATEGORIES:SEDA Event
ORGANIZER;CN="Nicole Miller":MAILTO:vicepres@sedariders.org
END:VEVENT
END:VCALENDAR