BEGIN:VCALENDAR
VERSION:2.0
PRODID:-//Southern Eventing and Dressage Association - SEDA - ECPv6.15.20//NONSGML v1.0//EN
CALSCALE:GREGORIAN
METHOD:PUBLISH
X-ORIGINAL-URL:https://sedariders.org
X-WR-CALDESC:Events for Southern Eventing and Dressage Association - SEDA
REFRESH-INTERVAL;VALUE=DURATION:PT1H
X-Robots-Tag:noindex
X-PUBLISHED-TTL:PT1H
BEGIN:VTIMEZONE
TZID:America/Chicago
BEGIN:DAYLIGHT
TZOFFSETFROM:-0600
TZOFFSETTO:-0500
TZNAME:CDT
DTSTART:20220313T080000
END:DAYLIGHT
BEGIN:STANDARD
TZOFFSETFROM:-0500
TZOFFSETTO:-0600
TZNAME:CST
DTSTART:20221106T070000
END:STANDARD
BEGIN:DAYLIGHT
TZOFFSETFROM:-0600
TZOFFSETTO:-0500
TZNAME:CDT
DTSTART:20230312T080000
END:DAYLIGHT
BEGIN:STANDARD
TZOFFSETFROM:-0500
TZOFFSETTO:-0600
TZNAME:CST
DTSTART:20231105T070000
END:STANDARD
BEGIN:DAYLIGHT
TZOFFSETFROM:-0600
TZOFFSETTO:-0500
TZNAME:CDT
DTSTART:20240310T080000
END:DAYLIGHT
BEGIN:STANDARD
TZOFFSETFROM:-0500
TZOFFSETTO:-0600
TZNAME:CST
DTSTART:20241103T070000
END:STANDARD
END:VTIMEZONE
BEGIN:VEVENT
DTSTART;VALUE=DATE:20230304
DTEND;VALUE=DATE:20230306
DTSTAMP:20260422T183230
CREATED:20221021T161916Z
LAST-MODIFIED:20221021T161916Z
UID:25406-1677888000-1678060799@sedariders.org
SUMMARY:Spring Schooling Fleur de Leap
DESCRIPTION:Schooling horse trials\, combined test\, and dressage only show
URL:https://sedariders.org/event/spring-schooling-fleur-de-leap-2/
LOCATION:Lagniappe Equestrian Center\, 13349 Verger Road\, Folsom\, LA\, 70437\, United States
CATEGORIES:SEDA Event,SEDA-Recognized Event
ORGANIZER;CN="Emily Embree":MAILTO:eventing@sedariders.org
END:VEVENT
BEGIN:VEVENT
DTSTART;VALUE=DATE:20230318
DTEND;VALUE=DATE:20230320
DTSTAMP:20260422T183230
CREATED:20221206T034233Z
LAST-MODIFIED:20221206T034233Z
UID:25542-1679097600-1679270399@sedariders.org
SUMMARY:The First Dance
DESCRIPTION:Licensed dressage show
URL:https://sedariders.org/event/the-first-dance-2/
LOCATION:Amen Corner Farm\, 27519 Polo Rd\, Folsom\, LA\, 70437\, United States
CATEGORIES:SEDA-Recognized Event
ORGANIZER;CN="Judi Dauterive":MAILTO:ponyparade@hotmail.com
END:VEVENT
BEGIN:VEVENT
DTSTART;VALUE=DATE:20230330
DTEND;VALUE=DATE:20230403
DTSTAMP:20260422T183230
CREATED:20221202T000325Z
LAST-MODIFIED:20221202T000325Z
UID:25527-1680134400-1680479999@sedariders.org
SUMMARY:Abi Lyle Clinic
DESCRIPTION:Abi Lyle clinic 2023 \nAbi Lyle Clinic flyer
URL:https://sedariders.org/event/abi-lyle-clinic-2/
LOCATION:Stirling Farm\, Hay Hollow Road\, Folsom\, LA\, 70437\, United States
CATEGORIES:Courtesy Event
END:VEVENT
END:VCALENDAR