BEGIN:VCALENDAR
VERSION:2.0
PRODID:-//Southern Eventing and Dressage Association - SEDA - ECPv6.15.20//NONSGML v1.0//EN
CALSCALE:GREGORIAN
METHOD:PUBLISH
X-ORIGINAL-URL:https://sedariders.org
X-WR-CALDESC:Events for Southern Eventing and Dressage Association - SEDA
REFRESH-INTERVAL;VALUE=DURATION:PT1H
X-Robots-Tag:noindex
X-PUBLISHED-TTL:PT1H
BEGIN:VTIMEZONE
TZID:America/Chicago
BEGIN:DAYLIGHT
TZOFFSETFROM:-0600
TZOFFSETTO:-0500
TZNAME:CDT
DTSTART:20210314T080000
END:DAYLIGHT
BEGIN:STANDARD
TZOFFSETFROM:-0500
TZOFFSETTO:-0600
TZNAME:CST
DTSTART:20211107T070000
END:STANDARD
BEGIN:DAYLIGHT
TZOFFSETFROM:-0600
TZOFFSETTO:-0500
TZNAME:CDT
DTSTART:20220313T080000
END:DAYLIGHT
BEGIN:STANDARD
TZOFFSETFROM:-0500
TZOFFSETTO:-0600
TZNAME:CST
DTSTART:20221106T070000
END:STANDARD
BEGIN:DAYLIGHT
TZOFFSETFROM:-0600
TZOFFSETTO:-0500
TZNAME:CDT
DTSTART:20230312T080000
END:DAYLIGHT
BEGIN:STANDARD
TZOFFSETFROM:-0500
TZOFFSETTO:-0600
TZNAME:CST
DTSTART:20231105T070000
END:STANDARD
END:VTIMEZONE
BEGIN:VEVENT
DTSTART;VALUE=DATE:20221001
DTEND;VALUE=DATE:20221003
DTSTAMP:20260423T003342
CREATED:20211027T173330Z
LAST-MODIFIED:20211027T173330Z
UID:24682-1664582400-1664755199@sedariders.org
SUMMARY:SEDA RECOGNIZED FLEUR DE LEAP
DESCRIPTION:
URL:https://sedariders.org/event/seda-recognized-fleur-de-leap/
LOCATION:Lagniappe Equestrian Center\, 13349 Verger Road\, Folsom\, LA\, 70437\, United States
CATEGORIES:SEDA Event,SEDA-Recognized Event
ORGANIZER;CN="Emily Embree":MAILTO:eventing@sedariders.org
END:VEVENT
BEGIN:VEVENT
DTSTART;VALUE=DATE:20221014
DTEND;VALUE=DATE:20221017
DTSTAMP:20260423T003342
CREATED:20220803T213200Z
LAST-MODIFIED:20220803T213200Z
UID:25318-1665705600-1665964799@sedariders.org
SUMMARY:LAURA ASHLEY KILLIAN CLINIC
DESCRIPTION:*tentative dates*
URL:https://sedariders.org/event/laura-ashley-killian-clinic-2/
LOCATION:Kalie Beckers Dressage\, Folsom\, LA\, 70437\, United States
CATEGORIES:SEDA Event
ORGANIZER;CN="Judi Dauterive":MAILTO:ponyparade@hotmail.com
END:VEVENT
BEGIN:VEVENT
DTSTART;TZID=America/Chicago:20221019T190000
DTEND;TZID=America/Chicago:20221019T210000
DTSTAMP:20260423T003342
CREATED:20221011T215325Z
LAST-MODIFIED:20221011T215325Z
UID:25388-1666206000-1666213200@sedariders.org
SUMMARY:SEDA Board Meeting
DESCRIPTION:ZOOM meeting. 7:00 PM. Please contact Natasha if you’d like to participate.
URL:https://sedariders.org/event/seda-board-meeting-4/
LOCATION:LA
CATEGORIES:SEDA Event
END:VEVENT
BEGIN:VEVENT
DTSTART;VALUE=DATE:20221029
DTEND;VALUE=DATE:20221031
DTSTAMP:20260423T003342
CREATED:20220118T173558Z
LAST-MODIFIED:20220118T173558Z
UID:24849-1667001600-1667174399@sedariders.org
SUMMARY:Le Bon Temps
DESCRIPTION:Licensed Dressage Show
URL:https://sedariders.org/event/le-bon-temps/
LOCATION:Amen Corner Farm\, 27519 Polo Rd\, Folsom\, LA\, 70437\, United States
CATEGORIES:SEDA Event,SEDA-Recognized Event
ORGANIZER;CN="Judi Dauterive":MAILTO:ponyparade@hotmail.com
END:VEVENT
END:VCALENDAR