BEGIN:VCALENDAR
VERSION:2.0
PRODID:-//Southern Eventing and Dressage Association - SEDA - ECPv6.15.20//NONSGML v1.0//EN
CALSCALE:GREGORIAN
METHOD:PUBLISH
X-ORIGINAL-URL:https://sedariders.org
X-WR-CALDESC:Events for Southern Eventing and Dressage Association - SEDA
REFRESH-INTERVAL;VALUE=DURATION:PT1H
X-Robots-Tag:noindex
X-PUBLISHED-TTL:PT1H
BEGIN:VTIMEZONE
TZID:America/Chicago
BEGIN:DAYLIGHT
TZOFFSETFROM:-0600
TZOFFSETTO:-0500
TZNAME:CDT
DTSTART:20210314T080000
END:DAYLIGHT
BEGIN:STANDARD
TZOFFSETFROM:-0500
TZOFFSETTO:-0600
TZNAME:CST
DTSTART:20211107T070000
END:STANDARD
BEGIN:DAYLIGHT
TZOFFSETFROM:-0600
TZOFFSETTO:-0500
TZNAME:CDT
DTSTART:20220313T080000
END:DAYLIGHT
BEGIN:STANDARD
TZOFFSETFROM:-0500
TZOFFSETTO:-0600
TZNAME:CST
DTSTART:20221106T070000
END:STANDARD
BEGIN:DAYLIGHT
TZOFFSETFROM:-0600
TZOFFSETTO:-0500
TZNAME:CDT
DTSTART:20230312T080000
END:DAYLIGHT
BEGIN:STANDARD
TZOFFSETFROM:-0500
TZOFFSETTO:-0600
TZNAME:CST
DTSTART:20231105T070000
END:STANDARD
END:VTIMEZONE
BEGIN:VEVENT
DTSTART;VALUE=DATE:20220122
DTEND;VALUE=DATE:20220124
DTSTAMP:20260425T093508
CREATED:20211027T171009Z
LAST-MODIFIED:20211027T171009Z
UID:24650-1642809600-1642982399@sedariders.org
SUMMARY:SEDA SCHOOLING DRESSAGE CHAMPIONSHIPS
DESCRIPTION:The finale to the show year!
URL:https://sedariders.org/event/seda-schooling-dressage-championships/
LOCATION:Amen Corner Farm\, 27519 Polo Rd\, Folsom\, LA\, 70437\, United States
CATEGORIES:SEDA Event,SEDA-Recognized Event
ORGANIZER;CN="Judi Dauterive":MAILTO:ponyparade@hotmail.com
END:VEVENT
BEGIN:VEVENT
DTSTART;TZID=America/Chicago:20220129T170000
DTEND;TZID=America/Chicago:20220129T210000
DTSTAMP:20260425T093508
CREATED:20211027T171503Z
LAST-MODIFIED:20211231T204232Z
UID:24652-1643475600-1643490000@sedariders.org
SUMMARY:SEDA YEAR END AWARDS BANQUET
DESCRIPTION:Celebrate the end of the show season and all of your accomplishments. The theme? A Day at the Races / the SEDA Cup \nWear your best race-going attire (ladies\, break out the hats) for a fun social evening. \nBenedicts Plantation \nReserve your space
URL:https://sedariders.org/event/seda-year-end-awards-banquet/
LOCATION:Benedicts Plantation\, 1144 N. Causeway Blvd.\, Mandeville\, LA\, 70471\, United States
CATEGORIES:SEDA Event
ORGANIZER;CN="Nicole Miller":MAILTO:vicepres@sedariders.org
END:VEVENT
END:VCALENDAR