BEGIN:VCALENDAR
VERSION:2.0
PRODID:-//Southern Eventing and Dressage Association - SEDA - ECPv6.15.20//NONSGML v1.0//EN
CALSCALE:GREGORIAN
METHOD:PUBLISH
X-WR-CALNAME:Southern Eventing and Dressage Association - SEDA
X-ORIGINAL-URL:https://sedariders.org
X-WR-CALDESC:Events for Southern Eventing and Dressage Association - SEDA
REFRESH-INTERVAL;VALUE=DURATION:PT1H
X-Robots-Tag:noindex
X-PUBLISHED-TTL:PT1H
BEGIN:VTIMEZONE
TZID:America/Chicago
BEGIN:DAYLIGHT
TZOFFSETFROM:-0600
TZOFFSETTO:-0500
TZNAME:CDT
DTSTART:20200308T080000
END:DAYLIGHT
BEGIN:STANDARD
TZOFFSETFROM:-0500
TZOFFSETTO:-0600
TZNAME:CST
DTSTART:20201101T070000
END:STANDARD
BEGIN:DAYLIGHT
TZOFFSETFROM:-0600
TZOFFSETTO:-0500
TZNAME:CDT
DTSTART:20210314T080000
END:DAYLIGHT
BEGIN:STANDARD
TZOFFSETFROM:-0500
TZOFFSETTO:-0600
TZNAME:CST
DTSTART:20211107T070000
END:STANDARD
BEGIN:DAYLIGHT
TZOFFSETFROM:-0600
TZOFFSETTO:-0500
TZNAME:CDT
DTSTART:20220313T080000
END:DAYLIGHT
BEGIN:STANDARD
TZOFFSETFROM:-0500
TZOFFSETTO:-0600
TZNAME:CST
DTSTART:20221106T070000
END:STANDARD
END:VTIMEZONE
BEGIN:VEVENT
DTSTART;VALUE=DATE:20211104
DTEND;VALUE=DATE:20211205
DTSTAMP:20260420T220730
CREATED:20210327T234846Z
LAST-MODIFIED:20210328T000730Z
UID:23747-1635984000-1638662399@sedariders.org
SUMMARY:Cross Country Schooling Closed
DESCRIPTION:
URL:https://sedariders.org/event/cross-country-schooling-closed/
LOCATION:Lagniappe Equestrian Center\, 13349 Verger Road\, Folsom\, LA\, 70437\, United States
CATEGORIES:SEDA Event
END:VEVENT
BEGIN:VEVENT
DTSTART;VALUE=DATE:20211101
DTEND;VALUE=DATE:20211102
DTSTAMP:20260420T220730
CREATED:20210327T234956Z
LAST-MODIFIED:20210328T000749Z
UID:23751-1635724800-1635811199@sedariders.org
SUMMARY:SEDA Scholarship Deadline
DESCRIPTION:
URL:https://sedariders.org/event/seda-scholarship-deadline/
LOCATION:LA
CATEGORIES:SEDA Event
END:VEVENT
BEGIN:VEVENT
DTSTART;TZID=America/Chicago:20211030T000000
DTEND;TZID=America/Chicago:20211031T235900
DTSTAMP:20260420T220730
CREATED:20210327T233108Z
LAST-MODIFIED:20210328T000804Z
UID:23713-1635552000-1635724740@sedariders.org
SUMMARY:Le Bon Temps I & II
DESCRIPTION:Licensed Dressage Show
URL:https://sedariders.org/event/le-bon-temps-i-ii/
LOCATION:Amen Corner Farm\, 27519 Polo Rd\, Folsom\, LA\, 70437\, United States
CATEGORIES:SEDA Event,SEDA-Recognized Event
ORGANIZER;CN="Judi Dauterive":MAILTO:ponyparade@hotmail.com
END:VEVENT
BEGIN:VEVENT
DTSTART;TZID=America/Chicago:20211025T193000
DTEND;TZID=America/Chicago:20211025T210000
DTSTAMP:20260420T220730
CREATED:20211019T013007Z
LAST-MODIFIED:20211019T013007Z
UID:24643-1635190200-1635195600@sedariders.org
SUMMARY:SEDA Board Meeting
DESCRIPTION:SEDA Board meeting \nContact Nicole if you’d like to attend or would have an agenda item. This is a ZOOM meeting.
URL:https://sedariders.org/event/seda-board-meeting-2/
LOCATION:ZOOM
CATEGORIES:SEDA Event
ORGANIZER;CN="Nicole Miller":MAILTO:vicepres@sedariders.org
END:VEVENT
BEGIN:VEVENT
DTSTART;TZID=America/Chicago:20211007T000000
DTEND;TZID=America/Chicago:20211010T235900
DTSTAMP:20260420T220730
CREATED:20210327T234502Z
LAST-MODIFIED:20210328T000820Z
UID:23740-1633564800-1633910340@sedariders.org
SUMMARY:USDF Region 9 Championships
DESCRIPTION:October 7-10\nGAIG/USDF Region 9 Championship and HDS Autumn Classic Level 4 \nLicensed Dressage
URL:https://sedariders.org/event/usdf-region-9-championships/
LOCATION:Great Southwest Equestrian Center\, 2501 S. Mason Road\, Katy\, TX\, 77450\, United States
CATEGORIES:SEDA-Recognized Event
END:VEVENT
BEGIN:VEVENT
DTSTART;VALUE=DATE:20211002
DTEND;VALUE=DATE:20211004
DTSTAMP:20260420T220730
CREATED:20210327T233744Z
LAST-MODIFIED:20210328T000841Z
UID:23731-1633132800-1633305599@sedariders.org
SUMMARY:Fall Fleur De Leap
DESCRIPTION:Recognized Fleur de Leap Horse Trials
URL:https://sedariders.org/event/fall-fleur-de-leap/
LOCATION:Lagniappe Equestrian Center\, 13349 Verger Road\, Folsom\, LA\, 70437\, United States
CATEGORIES:SEDA Event,SEDA-Recognized Event
ORGANIZER;CN="Emily Embree":MAILTO:eventing@sedariders.org
END:VEVENT
BEGIN:VEVENT
DTSTART;VALUE=DATE:20210918
DTEND;VALUE=DATE:20210920
DTSTAMP:20260420T220730
CREATED:20210327T233023Z
LAST-MODIFIED:20210328T000902Z
UID:23711-1631923200-1632095999@sedariders.org
SUMMARY:Amen Corner Farm Schooling Dressage Show
DESCRIPTION:Schooling Dressage Show
URL:https://sedariders.org/event/amen-corner-farm-schooling-dressage-show/
LOCATION:Amen Corner Farm\, 27519 Polo Rd\, Folsom\, LA\, 70437\, United States
CATEGORIES:SEDA-Recognized Event
ORGANIZER;CN="Judi Dauterive":MAILTO:ponyparade@hotmail.com
END:VEVENT
BEGIN:VEVENT
DTSTART;VALUE=DATE:20210911
DTEND;VALUE=DATE:20210913
DTSTAMP:20260420T220730
CREATED:20210624T224000Z
LAST-MODIFIED:20210624T224000Z
UID:24471-1631318400-1631491199@sedariders.org
SUMMARY:Coastal Flight Dressage Shows
DESCRIPTION:
URL:https://sedariders.org/event/coastal-flight-dressage-shows/
LOCATION:harrison county fairgrounds\, MS\, United States
CATEGORIES:SEDA-Recognized Event
END:VEVENT
BEGIN:VEVENT
DTSTART;VALUE=DATE:20210902
DTEND;VALUE=DATE:20211003
DTSTAMP:20260420T220730
CREATED:20210327T234929Z
LAST-MODIFIED:20210328T000922Z
UID:23749-1630540800-1633219199@sedariders.org
SUMMARY:Cross Country Schooling Closed
DESCRIPTION:
URL:https://sedariders.org/event/cross-country-schooling-closed-2/
LOCATION:LA
CATEGORIES:SEDA Event
END:VEVENT
BEGIN:VEVENT
DTSTART;VALUE=DATE:20210831
DTEND;VALUE=DATE:20210906
DTSTAMP:20260420T220730
CREATED:20210327T234721Z
LAST-MODIFIED:20210328T000943Z
UID:23743-1630368000-1630886399@sedariders.org
SUMMARY:US Eventing Championships
DESCRIPTION:Kentucky Horse Park in Lexington\, Kentucky \nThe United States Eventing Association American Eventing Championships presented by Nutrena Feeds is the annual championship for every level of the Olympic equestrian sport of eventing\, from Beginner Novice to Advanced\, in America. The 2021 AEC will take place August 31-September 5\, 2021.
URL:https://sedariders.org/event/us-eventing-championships/
LOCATION:Kentucky Horse Park
CATEGORIES:Courtesy Event
END:VEVENT
BEGIN:VEVENT
DTSTART;VALUE=DATE:20210814
DTEND;VALUE=DATE:20210815
DTSTAMP:20260420T220730
CREATED:20210327T233702Z
LAST-MODIFIED:20210328T001006Z
UID:23729-1628899200-1628985599@sedariders.org
SUMMARY:LEC Horse Trials in a day
DESCRIPTION:LEC Horse Trials in a day (2 of 2) Dressage only also offered
URL:https://sedariders.org/event/lec-horse-trials-in-a-day/
LOCATION:Lagniappe Equestrian Center\, 13349 Verger Road\, Folsom\, LA\, 70437\, United States
CATEGORIES:SEDA-Recognized Event
ORGANIZER;CN="Sharon Londono":MAILTO:lagniappefarm@bellsouth.net
END:VEVENT
BEGIN:VEVENT
DTSTART;TZID=America/Chicago:20210804T193000
DTEND;TZID=America/Chicago:20210804T210000
DTSTAMP:20260420T220730
CREATED:20210722T184340Z
LAST-MODIFIED:20210722T184340Z
UID:24507-1628105400-1628110800@sedariders.org
SUMMARY:SEDA Board Meeting
DESCRIPTION:SEDA Board Meeting \n7:30PM \nIf you would like to join in this ZOOM call or have an agenda item\, please contact Nicole before the meeting.
URL:https://sedariders.org/event/seda-board-meeting/
LOCATION:ZOOM
CATEGORIES:SEDA Event
ORGANIZER;CN="Nicole Miller":MAILTO:vicepres@sedariders.org
END:VEVENT
BEGIN:VEVENT
DTSTART;VALUE=DATE:20210718
DTEND;VALUE=DATE:20210719
DTSTAMP:20260420T220730
CREATED:20210327T233626Z
LAST-MODIFIED:20210328T001026Z
UID:23727-1626566400-1626652799@sedariders.org
SUMMARY:Just Jumpers
DESCRIPTION:Jumping only
URL:https://sedariders.org/event/just-jumpers/
LOCATION:Lagniappe Equestrian Center\, 13349 Verger Road\, Folsom\, LA\, 70437\, United States
CATEGORIES:Courtesy Event
ORGANIZER;CN="Sharon Londono":MAILTO:lagniappefarm@bellsouth.net
END:VEVENT
BEGIN:VEVENT
DTSTART;VALUE=DATE:20210717
DTEND;VALUE=DATE:20210718
DTSTAMP:20260420T220730
CREATED:20210327T233550Z
LAST-MODIFIED:20210328T001050Z
UID:23725-1626480000-1626566399@sedariders.org
SUMMARY:Adults Only Schooling Dressage
DESCRIPTION:Adults Only Schooling Dressage Show
URL:https://sedariders.org/event/adults-only-schooling-dressage/
LOCATION:Lagniappe Equestrian Center\, 13349 Verger Road\, Folsom\, LA\, 70437\, United States
CATEGORIES:SEDA-Recognized Event
ORGANIZER;CN="Sharon Londono":MAILTO:lagniappefarm@bellsouth.net
END:VEVENT
BEGIN:VEVENT
DTSTART;VALUE=DATE:20210619
DTEND;VALUE=DATE:20210620
DTSTAMP:20260420T220730
CREATED:20210327T233506Z
LAST-MODIFIED:20210328T001110Z
UID:23723-1624060800-1624147199@sedariders.org
SUMMARY:LEC Combined Test
DESCRIPTION:LEC Combined Test (1 of 2) Dressage only also offered
URL:https://sedariders.org/event/lec-combined-test/
LOCATION:Lagniappe Equestrian Center\, 13349 Verger Road\, Folsom\, LA\, 70437\, United States
CATEGORIES:SEDA-Recognized Event
ORGANIZER;CN="Sharon Londono":MAILTO:lagniappefarm@bellsouth.net
END:VEVENT
BEGIN:VEVENT
DTSTART;VALUE=DATE:20210529
DTEND;VALUE=DATE:20210530
DTSTAMP:20260420T220730
CREATED:20210327T232931Z
LAST-MODIFIED:20210427T153059Z
UID:23708-1622246400-1622332799@sedariders.org
SUMMARY:CANCELLED! SEDA Junior Classic
DESCRIPTION:Juniors Only Schooling Show \nDue to lack of projected participation\, we will not be having the Junior Classic this year. Watch the website for details on another event planned for juniors.
URL:https://sedariders.org/event/seda-junior-classic/
LOCATION:Amen Corner Farm\, 27519 Polo Rd\, Folsom\, LA\, 70437\, United States
CATEGORIES:SEDA Event,SEDA-Recognized Event
ORGANIZER;CN="Isabella Rodwig":MAILTO:juniors@sedariders.org
END:VEVENT
BEGIN:VEVENT
DTSTART;VALUE=DATE:20210522
DTEND;VALUE=DATE:20210524
DTSTAMP:20260420T220730
CREATED:20210327T232116Z
LAST-MODIFIED:20210327T232116Z
UID:23706-1621641600-1621814399@sedariders.org
SUMMARY:Amen Corner Schooling Dressage Show
DESCRIPTION:Schooling Dressage Show
URL:https://sedariders.org/event/amen-corner-schooling-dressage-show/
LOCATION:Amen Corner Farm\, 27519 Polo Rd\, Folsom\, LA\, 70437\, United States
CATEGORIES:SEDA-Recognized Event
ORGANIZER;CN="Judi Dauterive":MAILTO:ponyparade@hotmail.com
END:VEVENT
BEGIN:VEVENT
DTSTART;VALUE=DATE:20210501
DTEND;VALUE=DATE:20210502
DTSTAMP:20260420T220730
CREATED:20210327T233422Z
LAST-MODIFIED:20210328T001206Z
UID:23720-1619827200-1619913599@sedariders.org
SUMMARY:Horse Trials in a Day
DESCRIPTION:LEC Horse Trials in a day (1 of 2) Dressage only also offered
URL:https://sedariders.org/event/horse-trials-in-a-day/
LOCATION:Lagniappe Equestrian Center\, 13349 Verger Road\, Folsom\, LA\, 70437\, United States
CATEGORIES:SEDA-Recognized Event
ORGANIZER;CN="Sharon Londono":MAILTO:lagniappefarm@bellsouth.net
END:VEVENT
BEGIN:VEVENT
DTSTART;VALUE=DATE:20210501
DTEND;VALUE=DATE:20210502
DTSTAMP:20260420T220730
CREATED:20210327T233254Z
LAST-MODIFIED:20210328T001243Z
UID:23718-1619827200-1619913599@sedariders.org
SUMMARY:Spring Scholarship Deadline
DESCRIPTION:
URL:https://sedariders.org/event/spring-scholarship-deadline/
LOCATION:LA
CATEGORIES:SEDA Event
END:VEVENT
BEGIN:VEVENT
DTSTART;VALUE=DATE:20210429
DTEND;VALUE=DATE:20210503
DTSTAMP:20260420T220730
CREATED:20210327T234328Z
LAST-MODIFIED:20210327T234328Z
UID:23737-1619654400-1619999999@sedariders.org
SUMMARY:Tex-Over Farms CDI2* and Spring Classic I&II
DESCRIPTION:April 29 – May 2\nTex-Over Farms CDI2* and Spring Classic I&II Level 5 \nLicensed Dressage
URL:https://sedariders.org/event/tex-over-farms-cdi2-and-spring-classic-iii/
LOCATION:Great Southwest Equestrian Center\, 2501 S. Mason Road\, Katy\, TX\, 77450\, United States
CATEGORIES:SEDA-Recognized Event
END:VEVENT
BEGIN:VEVENT
DTSTART;VALUE=DATE:20210320
DTEND;VALUE=DATE:20210322
DTSTAMP:20260420T220730
CREATED:20210327T232033Z
LAST-MODIFIED:20210327T232033Z
UID:23704-1616198400-1616371199@sedariders.org
SUMMARY:The First Dance
DESCRIPTION:Licensed Dressage Show
URL:https://sedariders.org/event/the-first-dance/
LOCATION:Amen Corner Farm\, 27519 Polo Rd\, Folsom\, LA\, 70437\, United States
CATEGORIES:SEDA-Recognized Event
ORGANIZER;CN="Judi Dauterive":MAILTO:ponyparade@hotmail.com
END:VEVENT
BEGIN:VEVENT
DTSTART;VALUE=DATE:20210306
DTEND;VALUE=DATE:20210308
DTSTAMP:20260420T220730
CREATED:20210327T233229Z
LAST-MODIFIED:20210327T233229Z
UID:23715-1614988800-1615161599@sedariders.org
SUMMARY:Spring Fleur de Leap
DESCRIPTION:Schooling Dressage\, Horse Trials and Combined Test
URL:https://sedariders.org/event/spring-fleur-de-leap/
LOCATION:Lagniappe Equestrian Center\, 13349 Verger Road\, Folsom\, LA\, 70437\, United States
CATEGORIES:SEDA Event,SEDA-Recognized Event
ORGANIZER;CN="Emily Embree":MAILTO:eventing@sedariders.org
END:VEVENT
BEGIN:VEVENT
DTSTART;VALUE=DATE:20210220
DTEND;VALUE=DATE:20210222
DTSTAMP:20260420T220730
CREATED:20210327T231941Z
LAST-MODIFIED:20210327T231949Z
UID:23702-1613779200-1613951999@sedariders.org
SUMMARY:Amen Corner Farm Schooling Dressage and CT
DESCRIPTION:
URL:https://sedariders.org/event/amen-corner-farm-schooling-dressage-and-ct/
LOCATION:Amen Corner Farm\, 27519 Polo Rd\, Folsom\, LA\, 70437\, United States
CATEGORIES:SEDA-Recognized Event
ORGANIZER;CN="Judi Dauterive":MAILTO:ponyparade@hotmail.com
END:VEVENT
BEGIN:VEVENT
DTSTART;VALUE=DATE:20210123
DTEND;VALUE=DATE:20210125
DTSTAMP:20260420T220730
CREATED:20210327T231702Z
LAST-MODIFIED:20210327T231702Z
UID:23699-1611360000-1611532799@sedariders.org
SUMMARY:SEDA Schooling Dressage Championships and Schooling Dressage Show
DESCRIPTION:Schooling Dressage show Saturday \nSchooling Dressage Championships Sunday
URL:https://sedariders.org/event/seda-schooling-dressage-championships-and-schooling-dressage-show/
LOCATION:Amen Corner Farm\, 27519 Polo Rd\, Folsom\, LA\, 70437\, United States
CATEGORIES:SEDA-Recognized Event
ORGANIZER;CN="Judi Dauterive":MAILTO:ponyparade@hotmail.com
END:VEVENT
END:VCALENDAR