BEGIN:VCALENDAR
VERSION:2.0
PRODID:-//Southern Eventing and Dressage Association - SEDA - ECPv6.15.20//NONSGML v1.0//EN
CALSCALE:GREGORIAN
METHOD:PUBLISH
X-WR-CALNAME:Southern Eventing and Dressage Association - SEDA
X-ORIGINAL-URL:https://sedariders.org
X-WR-CALDESC:Events for Southern Eventing and Dressage Association - SEDA
REFRESH-INTERVAL;VALUE=DURATION:PT1H
X-Robots-Tag:noindex
X-PUBLISHED-TTL:PT1H
BEGIN:VTIMEZONE
TZID:America/Chicago
BEGIN:DAYLIGHT
TZOFFSETFROM:-0600
TZOFFSETTO:-0500
TZNAME:CDT
DTSTART:20200308T080000
END:DAYLIGHT
BEGIN:STANDARD
TZOFFSETFROM:-0500
TZOFFSETTO:-0600
TZNAME:CST
DTSTART:20201101T070000
END:STANDARD
BEGIN:DAYLIGHT
TZOFFSETFROM:-0600
TZOFFSETTO:-0500
TZNAME:CDT
DTSTART:20210314T080000
END:DAYLIGHT
BEGIN:STANDARD
TZOFFSETFROM:-0500
TZOFFSETTO:-0600
TZNAME:CST
DTSTART:20211107T070000
END:STANDARD
BEGIN:DAYLIGHT
TZOFFSETFROM:-0600
TZOFFSETTO:-0500
TZNAME:CDT
DTSTART:20220313T080000
END:DAYLIGHT
BEGIN:STANDARD
TZOFFSETFROM:-0500
TZOFFSETTO:-0600
TZNAME:CST
DTSTART:20221106T070000
END:STANDARD
BEGIN:DAYLIGHT
TZOFFSETFROM:-0600
TZOFFSETTO:-0500
TZNAME:CDT
DTSTART:20230312T080000
END:DAYLIGHT
BEGIN:STANDARD
TZOFFSETFROM:-0500
TZOFFSETTO:-0600
TZNAME:CST
DTSTART:20231105T070000
END:STANDARD
END:VTIMEZONE
BEGIN:VEVENT
DTSTART;VALUE=DATE:20221014
DTEND;VALUE=DATE:20221017
DTSTAMP:20260420T220046
CREATED:20220803T213200Z
LAST-MODIFIED:20220803T213200Z
UID:25318-1665705600-1665964799@sedariders.org
SUMMARY:LAURA ASHLEY KILLIAN CLINIC
DESCRIPTION:*tentative dates*
URL:https://sedariders.org/event/laura-ashley-killian-clinic-2/
LOCATION:Kalie Beckers Dressage\, Folsom\, LA\, 70437\, United States
CATEGORIES:SEDA Event
ORGANIZER;CN="Judi Dauterive":MAILTO:ponyparade@hotmail.com
END:VEVENT
BEGIN:VEVENT
DTSTART;VALUE=DATE:20221001
DTEND;VALUE=DATE:20221003
DTSTAMP:20260420T220046
CREATED:20211027T173330Z
LAST-MODIFIED:20211027T173330Z
UID:24682-1664582400-1664755199@sedariders.org
SUMMARY:SEDA RECOGNIZED FLEUR DE LEAP
DESCRIPTION:
URL:https://sedariders.org/event/seda-recognized-fleur-de-leap/
LOCATION:Lagniappe Equestrian Center\, 13349 Verger Road\, Folsom\, LA\, 70437\, United States
CATEGORIES:SEDA Event,SEDA-Recognized Event
ORGANIZER;CN="Emily Embree":MAILTO:eventing@sedariders.org
END:VEVENT
BEGIN:VEVENT
DTSTART;VALUE=DATE:20220924
DTEND;VALUE=DATE:20220926
DTSTAMP:20260420T220046
CREATED:20211027T171831Z
LAST-MODIFIED:20220328T212244Z
UID:24661-1663977600-1664150399@sedariders.org
SUMMARY:AMEN CORNER SCHOOLING DRESSAGE
DESCRIPTION:
URL:https://sedariders.org/event/amen-corner-schooling-dressage-2/
LOCATION:Amen Corner Farm\, 27519 Polo Rd\, Folsom\, LA\, 70437\, United States
CATEGORIES:SEDA-Recognized Event
ORGANIZER;CN="Judi Dauterive":MAILTO:ponyparade@hotmail.com
END:VEVENT
BEGIN:VEVENT
DTSTART;VALUE=DATE:20220806
DTEND;VALUE=DATE:20220807
DTSTAMP:20260420T220046
CREATED:20211027T173228Z
LAST-MODIFIED:20211027T173228Z
UID:24680-1659744000-1659830399@sedariders.org
SUMMARY:LEC HORSE TRIALS IN A DAY #2
DESCRIPTION:HORSE TRIALS AND DRESSAGE ONLY
URL:https://sedariders.org/event/lec-horse-trials-in-a-day-2/
LOCATION:Lagniappe Equestrian Center\, 13349 Verger Road\, Folsom\, LA\, 70437\, United States
CATEGORIES:SEDA-Recognized Event
ORGANIZER;CN="Sharon Londono":MAILTO:lagniappefarm@bellsouth.net
END:VEVENT
BEGIN:VEVENT
DTSTART;VALUE=DATE:20220729
DTEND;VALUE=DATE:20220801
DTSTAMP:20260420T220046
CREATED:20220525T230500Z
LAST-MODIFIED:20220525T230500Z
UID:25244-1659052800-1659311999@sedariders.org
SUMMARY:Laura Ashley Killian Clinic
DESCRIPTION:July 29\, 30\, 31 at Kalie Beckers Dressage
URL:https://sedariders.org/event/laura-ashley-killian-clinic/
LOCATION:Kalie Beckers Dressage\, Folsom\, LA\, 70437\, United States
CATEGORIES:SEDA Event
ORGANIZER;CN="Judi Dauterive":MAILTO:ponyparade@hotmail.com
END:VEVENT
BEGIN:VEVENT
DTSTART;VALUE=DATE:20220717
DTEND;VALUE=DATE:20220718
DTSTAMP:20260420T220046
CREATED:20211027T173135Z
LAST-MODIFIED:20211027T173135Z
UID:24678-1658016000-1658102399@sedariders.org
SUMMARY:LEC JUST JUMPERS AND DERBY CROSS #3
DESCRIPTION:
URL:https://sedariders.org/event/lec-just-jumpers-and-derby-cross-3/
LOCATION:Amen Corner Farm\, 27519 Polo Rd\, Folsom\, LA\, 70437\, United States
CATEGORIES:Courtesy Event
ORGANIZER;CN="Sharon Londono":MAILTO:lagniappefarm@bellsouth.net
END:VEVENT
BEGIN:VEVENT
DTSTART;VALUE=DATE:20220716
DTEND;VALUE=DATE:20220717
DTSTAMP:20260420T220046
CREATED:20211027T173051Z
LAST-MODIFIED:20211027T173051Z
UID:24676-1657929600-1658015999@sedariders.org
SUMMARY:LEC ADULTS ONLY SCHOOLING DRESSAGE
DESCRIPTION:NIGHT SHOW \nDRESSAGE ONLY ADULTS ONLY EVENT
URL:https://sedariders.org/event/lec-adults-only-schooling-dressage/
LOCATION:Lagniappe Equestrian Center\, 13349 Verger Road\, Folsom\, LA\, 70437\, United States
CATEGORIES:SEDA-Recognized Event
ORGANIZER;CN="Sharon Londono":MAILTO:lagniappefarm@bellsouth.net
END:VEVENT
BEGIN:VEVENT
DTSTART;VALUE=DATE:20220618
DTEND;VALUE=DATE:20220619
DTSTAMP:20260420T220046
CREATED:20211027T172936Z
LAST-MODIFIED:20220324T161420Z
UID:24674-1655510400-1655596799@sedariders.org
SUMMARY:LEC HORSE TRIALS IN A DAY #1
DESCRIPTION:horse trials and dressage only
URL:https://sedariders.org/event/lec-combined-test-2-2/
LOCATION:Lagniappe Equestrian Center\, 13349 Verger Road\, Folsom\, LA\, 70437\, United States
CATEGORIES:SEDA-Recognized Event
ORGANIZER;CN="Sharon Londono":MAILTO:lagniappefarm@bellsouth.net
END:VEVENT
BEGIN:VEVENT
DTSTART;VALUE=DATE:20220528
DTEND;VALUE=DATE:20220530
DTSTAMP:20260420T220046
CREATED:20211027T171738Z
LAST-MODIFIED:20211027T171738Z
UID:24659-1653696000-1653868799@sedariders.org
SUMMARY:AMEN CORNER SCHOOLING DRESSAGE
DESCRIPTION:
URL:https://sedariders.org/event/amen-corner-schooling-dressage/
LOCATION:Amen Corner Farm\, 27519 Polo Rd\, Folsom\, LA\, 70437\, United States
CATEGORIES:SEDA-Recognized Event
ORGANIZER;CN="Judi Dauterive":MAILTO:ponyparade@hotmail.com
END:VEVENT
BEGIN:VEVENT
DTSTART;VALUE=DATE:20220514
DTEND;VALUE=DATE:20220515
DTSTAMP:20260420T220046
CREATED:20211027T172839Z
LAST-MODIFIED:20211027T172839Z
UID:24672-1652486400-1652572799@sedariders.org
SUMMARY:LEC JUST JUMPERS & DERBY CROSS #2
DESCRIPTION:
URL:https://sedariders.org/event/lec-just-jumpers-derby-cross-2/
LOCATION:Lagniappe Equestrian Center\, 13349 Verger Road\, Folsom\, LA\, 70437\, United States
CATEGORIES:Courtesy Event
ORGANIZER;CN="Sharon Londono":MAILTO:lagniappefarm@bellsouth.net
END:VEVENT
BEGIN:VEVENT
DTSTART;VALUE=DATE:20220506
DTEND;VALUE=DATE:20220508
DTSTAMP:20260420T220046
CREATED:20220324T155242Z
LAST-MODIFIED:20220324T155242Z
UID:25161-1651795200-1651967999@sedariders.org
SUMMARY:Open Pony Club CT and Dressage Only Show
DESCRIPTION:May 6-7th – Open Pony Club CT and dressage only – SEDA recognized show\nDeep South Region Pony Club will be offering an OPEN Combined Test and Dressage Only with this rally.    \nDonna Meyers “r” dressage judge (TX) and Jennifer Merrick-Brooks (Michigan) for SJ \nFor more information\, contact\nDeep South Pony Club\nDawn Kelley\, Regional supervisor\n225-620-2109\nrsdsrponyclub@aol.com
URL:https://sedariders.org/event/open-pony-club-ct-and-dressage-only-show/
LOCATION:Lagniappe Equestrian Center\, 13349 Verger Road\, Folsom\, LA\, 70437\, United States
CATEGORIES:SEDA-Recognized Event
ORGANIZER;CN="Dawn Kelley":MAILTO:rsdsrponyclub@aol.com
END:VEVENT
BEGIN:VEVENT
DTSTART;VALUE=DATE:20220409
DTEND;VALUE=DATE:20220410
DTSTAMP:20260420T220046
CREATED:20211027T172737Z
LAST-MODIFIED:20220324T161521Z
UID:24670-1649462400-1649548799@sedariders.org
SUMMARY:LEC COMBINED TEST
DESCRIPTION:combined test and dressage only
URL:https://sedariders.org/event/lec-horse-trials-in-a-day-1/
LOCATION:Lagniappe Equestrian Center\, 13349 Verger Road\, Folsom\, LA\, 70437\, United States
CATEGORIES:SEDA-Recognized Event
ORGANIZER;CN="Sharon Londono":MAILTO:lagniappefarm@bellsouth.net
END:VEVENT
BEGIN:VEVENT
DTSTART;VALUE=DATE:20220319
DTEND;VALUE=DATE:20220321
DTSTAMP:20260420T220046
CREATED:20211027T171653Z
LAST-MODIFIED:20211027T171653Z
UID:24657-1647648000-1647820799@sedariders.org
SUMMARY:FIRST DANCE LICENSED DRESSAGE
DESCRIPTION:
URL:https://sedariders.org/event/first-dance-licensed-dressage/
LOCATION:Amen Corner Farm\, 27519 Polo Rd\, Folsom\, LA\, 70437\, United States
CATEGORIES:SEDA-Recognized Event
ORGANIZER;CN="Judi Dauterive":MAILTO:ponyparade@hotmail.com
END:VEVENT
BEGIN:VEVENT
DTSTART;VALUE=DATE:20220305
DTEND;VALUE=DATE:20220307
DTSTAMP:20260420T220046
CREATED:20211027T172634Z
LAST-MODIFIED:20211027T172634Z
UID:24668-1646438400-1646611199@sedariders.org
SUMMARY:SPRING SCHOOLING FLEUR DE LEAP
DESCRIPTION:Schooling dressage\, horse trials\, and combined test
URL:https://sedariders.org/event/spring-schooling-fleur-de-leap/
LOCATION:Lagniappe Equestrian Center\, 13349 Verger Road\, Folsom\, LA\, 70437\, United States
CATEGORIES:SEDA Event,SEDA-Recognized Event
ORGANIZER;CN="Emily Embree":MAILTO:eventing@sedariders.org
END:VEVENT
BEGIN:VEVENT
DTSTART;VALUE=DATE:20220212
DTEND;VALUE=DATE:20220214
DTSTAMP:20260420T220046
CREATED:20211027T171606Z
LAST-MODIFIED:20211027T171606Z
UID:24655-1644624000-1644796799@sedariders.org
SUMMARY:AMEN CORNER SCHOOLING DRESSAGE AND COMBINED TEST
DESCRIPTION:
URL:https://sedariders.org/event/amen-corner-schooling-dressage-and-combined-test/
LOCATION:Amen Corner Farm\, 27519 Polo Rd\, Folsom\, LA\, 70437\, United States
CATEGORIES:SEDA-Recognized Event
ORGANIZER;CN="Judi Dauterive":MAILTO:ponyparade@hotmail.com
END:VEVENT
BEGIN:VEVENT
DTSTART;VALUE=DATE:20220205
DTEND;VALUE=DATE:20220206
DTSTAMP:20260420T220046
CREATED:20211027T172532Z
LAST-MODIFIED:20211027T172532Z
UID:24666-1644019200-1644105599@sedariders.org
SUMMARY:LEC JUST JUMPERS & DERBY CROSS #1
DESCRIPTION:
URL:https://sedariders.org/event/lec-just-jumpers-derby-cross-1/
LOCATION:Lagniappe Equestrian Center\, 13349 Verger Road\, Folsom\, LA\, 70437\, United States
CATEGORIES:Courtesy Event
ORGANIZER;CN="Sharon Londono":MAILTO:lagniappefarm@bellsouth.net
END:VEVENT
BEGIN:VEVENT
DTSTART;TZID=America/Chicago:20220129T170000
DTEND;TZID=America/Chicago:20220129T210000
DTSTAMP:20260420T220046
CREATED:20211027T171503Z
LAST-MODIFIED:20211231T204232Z
UID:24652-1643475600-1643490000@sedariders.org
SUMMARY:SEDA YEAR END AWARDS BANQUET
DESCRIPTION:Celebrate the end of the show season and all of your accomplishments. The theme? A Day at the Races / the SEDA Cup \nWear your best race-going attire (ladies\, break out the hats) for a fun social evening. \nBenedicts Plantation \nReserve your space
URL:https://sedariders.org/event/seda-year-end-awards-banquet/
LOCATION:Benedicts Plantation\, 1144 N. Causeway Blvd.\, Mandeville\, LA\, 70471\, United States
CATEGORIES:SEDA Event
ORGANIZER;CN="Nicole Miller":MAILTO:vicepres@sedariders.org
END:VEVENT
BEGIN:VEVENT
DTSTART;VALUE=DATE:20220122
DTEND;VALUE=DATE:20220124
DTSTAMP:20260420T220046
CREATED:20211027T171009Z
LAST-MODIFIED:20211027T171009Z
UID:24650-1642809600-1642982399@sedariders.org
SUMMARY:SEDA SCHOOLING DRESSAGE CHAMPIONSHIPS
DESCRIPTION:The finale to the show year!
URL:https://sedariders.org/event/seda-schooling-dressage-championships/
LOCATION:Amen Corner Farm\, 27519 Polo Rd\, Folsom\, LA\, 70437\, United States
CATEGORIES:SEDA Event,SEDA-Recognized Event
ORGANIZER;CN="Judi Dauterive":MAILTO:ponyparade@hotmail.com
END:VEVENT
BEGIN:VEVENT
DTSTART;TZID=America/Chicago:20211209T193000
DTEND;TZID=America/Chicago:20211209T210000
DTSTAMP:20260420T220046
CREATED:20211203T163021Z
LAST-MODIFIED:20211203T163021Z
UID:24767-1639078200-1639083600@sedariders.org
SUMMARY:SEDA Board Meeting
DESCRIPTION:Virtual meeting. Please contact Nicole (president@sedariders.org) if you’d like to attend or have an item on the agenda.
URL:https://sedariders.org/event/seda-board-meeting-3/
LOCATION:LA
CATEGORIES:SEDA Event
ORGANIZER;CN="Nicole Miller":MAILTO:vicepres@sedariders.org
END:VEVENT
BEGIN:VEVENT
DTSTART;VALUE=DATE:20211204
DTEND;VALUE=DATE:20211206
DTSTAMP:20260420T220046
CREATED:20210327T233925Z
LAST-MODIFIED:20210328T000509Z
UID:23735-1638576000-1638748799@sedariders.org
SUMMARY:Christmas Fleur de Leap
DESCRIPTION:Christmas Schooling Fleur de Leap \nSchooling Horse Trials\, Combined Test and Dressage Only 
URL:https://sedariders.org/event/christmas-fleur-de-leap/
LOCATION:Lagniappe Equestrian Center\, 13349 Verger Road\, Folsom\, LA\, 70437\, United States
CATEGORIES:SEDA Event,SEDA-Recognized Event
ORGANIZER;CN="Emily Embree":MAILTO:eventing@sedariders.org
END:VEVENT
BEGIN:VEVENT
DTSTART;VALUE=DATE:20211201
DTEND;VALUE=DATE:20211202
DTSTAMP:20260420T220046
CREATED:20210327T235044Z
LAST-MODIFIED:20210328T000451Z
UID:23755-1638316800-1638403199@sedariders.org
SUMMARY:New Membership Year Begins
DESCRIPTION:
URL:https://sedariders.org/event/new-membership-year-begins/
LOCATION:LA
CATEGORIES:SEDA Event
END:VEVENT
BEGIN:VEVENT
DTSTART;VALUE=DATE:20211130
DTEND;VALUE=DATE:20211201
DTSTAMP:20260420T220046
CREATED:20210327T235019Z
LAST-MODIFIED:20210328T000526Z
UID:23753-1638230400-1638316799@sedariders.org
SUMMARY:End of Membership Year
DESCRIPTION:
URL:https://sedariders.org/event/end-of-membership-year/
LOCATION:LA
CATEGORIES:SEDA Event
END:VEVENT
BEGIN:VEVENT
DTSTART;VALUE=DATE:20211106
DTEND;VALUE=DATE:20211107
DTSTAMP:20260420T220046
CREATED:20210327T233820Z
LAST-MODIFIED:20210328T000545Z
UID:23733-1636156800-1636243199@sedariders.org
SUMMARY:LEC Combined Test
DESCRIPTION:LEC Combined Test (2 of 2) Dressage only also offered
URL:https://sedariders.org/event/lec-combined-test-2/
LOCATION:Lagniappe Equestrian Center\, 13349 Verger Road\, Folsom\, LA\, 70437\, United States
CATEGORIES:SEDA-Recognized Event
ORGANIZER;CN="Sharon Londono":MAILTO:lagniappefarm@bellsouth.net
END:VEVENT
BEGIN:VEVENT
DTSTART;VALUE=DATE:20211104
DTEND;VALUE=DATE:20211205
DTSTAMP:20260420T220046
CREATED:20210327T234846Z
LAST-MODIFIED:20210328T000730Z
UID:23747-1635984000-1638662399@sedariders.org
SUMMARY:Cross Country Schooling Closed
DESCRIPTION:
URL:https://sedariders.org/event/cross-country-schooling-closed/
LOCATION:Lagniappe Equestrian Center\, 13349 Verger Road\, Folsom\, LA\, 70437\, United States
CATEGORIES:SEDA Event
END:VEVENT
BEGIN:VEVENT
DTSTART;VALUE=DATE:20211101
DTEND;VALUE=DATE:20211102
DTSTAMP:20260420T220046
CREATED:20210327T234956Z
LAST-MODIFIED:20210328T000749Z
UID:23751-1635724800-1635811199@sedariders.org
SUMMARY:SEDA Scholarship Deadline
DESCRIPTION:
URL:https://sedariders.org/event/seda-scholarship-deadline/
LOCATION:LA
CATEGORIES:SEDA Event
END:VEVENT
BEGIN:VEVENT
DTSTART;TZID=America/Chicago:20211030T000000
DTEND;TZID=America/Chicago:20211031T235900
DTSTAMP:20260420T220046
CREATED:20210327T233108Z
LAST-MODIFIED:20210328T000804Z
UID:23713-1635552000-1635724740@sedariders.org
SUMMARY:Le Bon Temps I & II
DESCRIPTION:Licensed Dressage Show
URL:https://sedariders.org/event/le-bon-temps-i-ii/
LOCATION:Amen Corner Farm\, 27519 Polo Rd\, Folsom\, LA\, 70437\, United States
CATEGORIES:SEDA Event,SEDA-Recognized Event
ORGANIZER;CN="Judi Dauterive":MAILTO:ponyparade@hotmail.com
END:VEVENT
BEGIN:VEVENT
DTSTART;TZID=America/Chicago:20211025T193000
DTEND;TZID=America/Chicago:20211025T210000
DTSTAMP:20260420T220046
CREATED:20211019T013007Z
LAST-MODIFIED:20211019T013007Z
UID:24643-1635190200-1635195600@sedariders.org
SUMMARY:SEDA Board Meeting
DESCRIPTION:SEDA Board meeting \nContact Nicole if you’d like to attend or would have an agenda item. This is a ZOOM meeting.
URL:https://sedariders.org/event/seda-board-meeting-2/
LOCATION:ZOOM
CATEGORIES:SEDA Event
ORGANIZER;CN="Nicole Miller":MAILTO:vicepres@sedariders.org
END:VEVENT
BEGIN:VEVENT
DTSTART;TZID=America/Chicago:20211007T000000
DTEND;TZID=America/Chicago:20211010T235900
DTSTAMP:20260420T220046
CREATED:20210327T234502Z
LAST-MODIFIED:20210328T000820Z
UID:23740-1633564800-1633910340@sedariders.org
SUMMARY:USDF Region 9 Championships
DESCRIPTION:October 7-10\nGAIG/USDF Region 9 Championship and HDS Autumn Classic Level 4 \nLicensed Dressage
URL:https://sedariders.org/event/usdf-region-9-championships/
LOCATION:Great Southwest Equestrian Center\, 2501 S. Mason Road\, Katy\, TX\, 77450\, United States
CATEGORIES:SEDA-Recognized Event
END:VEVENT
BEGIN:VEVENT
DTSTART;VALUE=DATE:20211002
DTEND;VALUE=DATE:20211004
DTSTAMP:20260420T220046
CREATED:20210327T233744Z
LAST-MODIFIED:20210328T000841Z
UID:23731-1633132800-1633305599@sedariders.org
SUMMARY:Fall Fleur De Leap
DESCRIPTION:Recognized Fleur de Leap Horse Trials
URL:https://sedariders.org/event/fall-fleur-de-leap/
LOCATION:Lagniappe Equestrian Center\, 13349 Verger Road\, Folsom\, LA\, 70437\, United States
CATEGORIES:SEDA Event,SEDA-Recognized Event
ORGANIZER;CN="Emily Embree":MAILTO:eventing@sedariders.org
END:VEVENT
BEGIN:VEVENT
DTSTART;VALUE=DATE:20210918
DTEND;VALUE=DATE:20210920
DTSTAMP:20260420T220046
CREATED:20210327T233023Z
LAST-MODIFIED:20210328T000902Z
UID:23711-1631923200-1632095999@sedariders.org
SUMMARY:Amen Corner Farm Schooling Dressage Show
DESCRIPTION:Schooling Dressage Show
URL:https://sedariders.org/event/amen-corner-farm-schooling-dressage-show/
LOCATION:Amen Corner Farm\, 27519 Polo Rd\, Folsom\, LA\, 70437\, United States
CATEGORIES:SEDA-Recognized Event
ORGANIZER;CN="Judi Dauterive":MAILTO:ponyparade@hotmail.com
END:VEVENT
END:VCALENDAR