BEGIN:VCALENDAR
VERSION:2.0
PRODID:-//Southern Eventing and Dressage Association - SEDA - ECPv6.15.20//NONSGML v1.0//EN
CALSCALE:GREGORIAN
METHOD:PUBLISH
X-WR-CALNAME:Southern Eventing and Dressage Association - SEDA
X-ORIGINAL-URL:https://sedariders.org
X-WR-CALDESC:Events for Southern Eventing and Dressage Association - SEDA
REFRESH-INTERVAL;VALUE=DURATION:PT1H
X-Robots-Tag:noindex
X-PUBLISHED-TTL:PT1H
BEGIN:VTIMEZONE
TZID:America/Chicago
BEGIN:DAYLIGHT
TZOFFSETFROM:-0600
TZOFFSETTO:-0500
TZNAME:CDT
DTSTART:20220313T080000
END:DAYLIGHT
BEGIN:STANDARD
TZOFFSETFROM:-0500
TZOFFSETTO:-0600
TZNAME:CST
DTSTART:20221106T070000
END:STANDARD
BEGIN:DAYLIGHT
TZOFFSETFROM:-0600
TZOFFSETTO:-0500
TZNAME:CDT
DTSTART:20230312T080000
END:DAYLIGHT
BEGIN:STANDARD
TZOFFSETFROM:-0500
TZOFFSETTO:-0600
TZNAME:CST
DTSTART:20231105T070000
END:STANDARD
BEGIN:DAYLIGHT
TZOFFSETFROM:-0600
TZOFFSETTO:-0500
TZNAME:CDT
DTSTART:20240310T080000
END:DAYLIGHT
BEGIN:STANDARD
TZOFFSETFROM:-0500
TZOFFSETTO:-0600
TZNAME:CST
DTSTART:20241103T070000
END:STANDARD
BEGIN:DAYLIGHT
TZOFFSETFROM:-0600
TZOFFSETTO:-0500
TZNAME:CDT
DTSTART:20250309T080000
END:DAYLIGHT
BEGIN:STANDARD
TZOFFSETFROM:-0500
TZOFFSETTO:-0600
TZNAME:CST
DTSTART:20251102T070000
END:STANDARD
END:VTIMEZONE
BEGIN:VEVENT
DTSTART;TZID=America/Chicago:20240518T080000
DTEND;TZID=America/Chicago:20240518T170000
DTSTAMP:20260420T151744
CREATED:20231004T001901Z
LAST-MODIFIED:20231004T001901Z
UID:25809-1716019200-1716051600@sedariders.org
SUMMARY:LEC Combined Test with Dressage Only
DESCRIPTION:
URL:https://sedariders.org/event/lec-combined-test-with-dressage-only/
LOCATION:Lagniappe Equestrian Center\, 13349 Verger Road\, Folsom\, LA\, 70437\, United States
CATEGORIES:SEDA-Recognized Event
ORGANIZER;CN="Sharon Londono":MAILTO:lagniappefarm@bellsouth.net
END:VEVENT
BEGIN:VEVENT
DTSTART;VALUE=DATE:20240511
DTEND;VALUE=DATE:20240513
DTSTAMP:20260420T151744
CREATED:20231024T221601Z
LAST-MODIFIED:20231024T221601Z
UID:25840-1715385600-1715558399@sedariders.org
SUMMARY:Amen Corner Schooling Dressage
DESCRIPTION:
URL:https://sedariders.org/event/amen-corner-schooling-dressage-4/
LOCATION:Amen Corner Farm\, 27519 Polo Rd\, Folsom\, LA\, 70437\, United States
CATEGORIES:SEDA-Recognized Event
ORGANIZER;CN="Judi Dauterive":MAILTO:ponyparade@hotmail.com
END:VEVENT
BEGIN:VEVENT
DTSTART;VALUE=DATE:20240406
DTEND;VALUE=DATE:20240407
DTSTAMP:20260420T151744
CREATED:20231004T001816Z
LAST-MODIFIED:20240129T202423Z
UID:25807-1712361600-1712447999@sedariders.org
SUMMARY:LEC Eventing in a Day with Dressage Only
DESCRIPTION:HT/CT/XCT/Dressage Only offered
URL:https://sedariders.org/event/lec-eventing-in-a-day-with-dressage-only/
LOCATION:Lagniappe Equestrian Center\, 13349 Verger Road\, Folsom\, LA\, 70437\, United States
CATEGORIES:SEDA-Recognized Event
ORGANIZER;CN="Sharon Londono":MAILTO:lagniappefarm@bellsouth.net
END:VEVENT
BEGIN:VEVENT
DTSTART;TZID=America/Chicago:20240319T183000
DTEND;TZID=America/Chicago:20240319T200000
DTSTAMP:20260420T151744
CREATED:20240229T004050Z
LAST-MODIFIED:20240229T004050Z
UID:26001-1710873000-1710878400@sedariders.org
SUMMARY:Pilates for Riders
DESCRIPTION:Download Flyer \nDo you want to be a stronger\, better balanced rider? Who doesn’t?!! Join us in the studio at Ivy Vitality in downtown Folsom and learn how Pilates can help you become a better rider through core strength and flexibility. Class is limited to 10 spots; additional classes may be added if interest warrants. Register early to reserve your space. \nDate: March 19\, 2024 \nTime: 6:30PM-approximately 8:00PM \nCost: $20 per person (cash or check accepted evening of the event) \nLocation: Ivy Vitality\n82252 Highway 25\nFolsom\, LA 70437 \nBring: Yoga mat\, towel\, & water \nRegister: Contact Nicole Miller (vicepres@sedariders.org 504-458-6794) to reserve your space) \nWhat to expect:\nDr. Christina will provide a short lecture on the benefits of Pilates for riders\, followed by the exercises. No experience necessary. This class is appropriate for all ages. Herbal tea will be provided. We hope that there is enough interest that we could have an ongoing Pilates for Riders class! Come out and see the benefits of this exercise program!
URL:https://sedariders.org/event/pilates-for-riders/
LOCATION:Ivy Vitality\, 82252 Highway 25\, Folsom\, LA\, 70437\, United States
CATEGORIES:SEDA Event
ORGANIZER;CN="Nicole Miller":MAILTO:vicepres@sedariders.org
END:VEVENT
BEGIN:VEVENT
DTSTART;VALUE=DATE:20240316
DTEND;VALUE=DATE:20240318
DTSTAMP:20260420T151744
CREATED:20231024T221509Z
LAST-MODIFIED:20231025T165754Z
UID:25838-1710547200-1710719999@sedariders.org
SUMMARY:The First Dance Licensed Dressage
DESCRIPTION:
URL:https://sedariders.org/event/the-first-dance-licensed-dressage/
LOCATION:Amen Corner Farm\, 27519 Polo Rd\, Folsom\, LA\, 70437\, United States
CATEGORIES:SEDA-Recognized Event
ORGANIZER;CN="Judi Dauterive":MAILTO:ponyparade@hotmail.com
END:VEVENT
BEGIN:VEVENT
DTSTART;VALUE=DATE:20240309
DTEND;VALUE=DATE:20240311
DTSTAMP:20260420T151744
CREATED:20231109T031932Z
LAST-MODIFIED:20231109T031932Z
UID:25866-1709942400-1710115199@sedariders.org
SUMMARY:Spring Fleur de Leap
DESCRIPTION:Schooling Horse trials\, combined test\, and dressage show
URL:https://sedariders.org/event/spring-fleur-de-leap-2/
LOCATION:Lagniappe Equestrian Center\, 13349 Verger Road\, Folsom\, LA\, 70437\, United States
CATEGORIES:SEDA Event,SEDA-Recognized Event
ORGANIZER;CN="Emily Embree":MAILTO:eventing@sedariders.org
END:VEVENT
BEGIN:VEVENT
DTSTART;VALUE=DATE:20240217
DTEND;VALUE=DATE:20240219
DTSTAMP:20260420T151744
CREATED:20231024T221414Z
LAST-MODIFIED:20231025T165608Z
UID:25836-1708128000-1708300799@sedariders.org
SUMMARY:Amen Corner Schooling Dressage and Combined Test
DESCRIPTION:
URL:https://sedariders.org/event/amen-corner-schooling-dressage-and-combined-test-2/
LOCATION:Amen Corner Farm\, 27519 Polo Rd\, Folsom\, LA\, 70437\, United States
CATEGORIES:SEDA-Recognized Event
ORGANIZER;CN="Judi Dauterive":MAILTO:ponyparade@hotmail.com
END:VEVENT
BEGIN:VEVENT
DTSTART;VALUE=DATE:20240203
DTEND;VALUE=DATE:20240204
DTSTAMP:20260420T151744
CREATED:20231004T001721Z
LAST-MODIFIED:20231004T001721Z
UID:25805-1706918400-1707004799@sedariders.org
SUMMARY:LEC Just Jumpers
DESCRIPTION:Just jumping! Not SEDA-recognized\, but come jump some rounds!
URL:https://sedariders.org/event/lec-just-jumpers/
LOCATION:Lagniappe Equestrian Center\, 13349 Verger Road\, Folsom\, LA\, 70437\, United States
CATEGORIES:Courtesy Event
ORGANIZER;CN="Sharon Londono":MAILTO:lagniappefarm@bellsouth.net
END:VEVENT
BEGIN:VEVENT
DTSTART;TZID=America/Chicago:20240127T170000
DTEND;TZID=America/Chicago:20240127T210000
DTSTAMP:20260420T151744
CREATED:20230316T145340Z
LAST-MODIFIED:20230516T152135Z
UID:25661-1706374800-1706389200@sedariders.org
SUMMARY:SEDA Year End Awards Banquet
DESCRIPTION:“Welcome to Downton” \nJoin us at Money Hill Country club for an evening of fun\, dinner\, and dancing. Downton Abbey-themed attire is encouraged\, but not required. \nDoors open at 5:00PM\, program begins promptly at 5:30PM. Dinner served at 6:00PM. \nPlan your raffle baskets! $1/ticket. Cash only. \n50/50 raffle at end of the night! \nStay tuned for additional details! 
URL:https://sedariders.org/event/seda-year-end-awards-banquet-2/
LOCATION:Money Hill Country Club\, 100 Country Club Drive\, Abita Springs\, LA\, United States
CATEGORIES:SEDA Event
ORGANIZER;CN="Nicole Miller":MAILTO:vicepres@sedariders.org
END:VEVENT
BEGIN:VEVENT
DTSTART;VALUE=DATE:20240120
DTEND;VALUE=DATE:20240122
DTSTAMP:20260420T151744
CREATED:20231004T001601Z
LAST-MODIFIED:20231004T001601Z
UID:25803-1705708800-1705881599@sedariders.org
SUMMARY:SEDA Schooling Dressage Championships
DESCRIPTION:
URL:https://sedariders.org/event/seda-schooling-dressage-championships-3/
LOCATION:Amen Corner Farm\, 27519 Polo Rd\, Folsom\, LA\, 70437\, United States
CATEGORIES:SEDA Event,SEDA-Recognized Event
ORGANIZER;CN="Judi Dauterive":MAILTO:ponyparade@hotmail.com
END:VEVENT
BEGIN:VEVENT
DTSTART;VALUE=DATE:20240120
DTEND;VALUE=DATE:20240122
DTSTAMP:20260420T151744
CREATED:20230919T190724Z
LAST-MODIFIED:20230919T190724Z
UID:25778-1705708800-1705881599@sedariders.org
SUMMARY:Janet Foy Dressage Clinic
DESCRIPTION:
URL:https://sedariders.org/event/janet-foy-dressage-clinic/
LOCATION:Mills Farm Equestrian\, 1601 Hwy 357\, Opelousas\, LA\, United States
CATEGORIES:Courtesy Event
ORGANIZER;CN="Mills Farm Equestrian":MAILTO:millsfarmeq@gmail.com
END:VEVENT
BEGIN:VEVENT
DTSTART;VALUE=DATE:20240113
DTEND;VALUE=DATE:20240115
DTSTAMP:20260420T151744
CREATED:20231110T225932Z
LAST-MODIFIED:20231110T225932Z
UID:25871-1705104000-1705276799@sedariders.org
SUMMARY:Valerie Pride Eventing Clinic
DESCRIPTION:Valerie Pride Clinic Flyer
URL:https://sedariders.org/event/valerie-pride-eventing-clinic/
LOCATION:Lagniappe Equestrian Center\, 13349 Verger Road\, Folsom\, LA\, 70437\, United States
CATEGORIES:Courtesy Event
ORGANIZER;CN="Sharon Londono":MAILTO:lagniappefarm@bellsouth.net
END:VEVENT
BEGIN:VEVENT
DTSTART;VALUE=DATE:20240106
DTEND;VALUE=DATE:20240108
DTSTAMP:20260420T151744
CREATED:20230919T191336Z
LAST-MODIFIED:20230919T191336Z
UID:25780-1704499200-1704671999@sedariders.org
SUMMARY:Heather Blitz Dressage Clinic
DESCRIPTION:$550 for two days / $275 for one day \ncontact Stirling Farm to reserve your spot
URL:https://sedariders.org/event/heather-blitz-dressage-clinic/
LOCATION:Stirling Farm\, Hay Hollow Road\, Folsom\, LA\, 70437\, United States
CATEGORIES:Courtesy Event
ORGANIZER;CN="Stirling Farm":MAILTO:office@stirlingfarm.com
END:VEVENT
BEGIN:VEVENT
DTSTART;VALUE=DATE:20231211
DTEND;VALUE=DATE:20231213
DTSTAMP:20260420T151744
CREATED:20230919T190643Z
LAST-MODIFIED:20230919T190643Z
UID:25776-1702252800-1702425599@sedariders.org
SUMMARY:Lendon Gray Dressage Clinic
DESCRIPTION:
URL:https://sedariders.org/event/lendon-gray-dressage-clinic/
LOCATION:Mills Farm Equestrian\, 1601 Hwy 357\, Opelousas\, LA\, United States
CATEGORIES:Courtesy Event
ORGANIZER;CN="Mills Farm Equestrian":MAILTO:millsfarmeq@gmail.com
END:VEVENT
BEGIN:VEVENT
DTSTART;VALUE=DATE:20231209
DTEND;VALUE=DATE:20231211
DTSTAMP:20260420T151744
CREATED:20230919T190552Z
LAST-MODIFIED:20230919T190552Z
UID:25774-1702080000-1702252799@sedariders.org
SUMMARY:D4K Team Clinic with Lendon Gray
DESCRIPTION:
URL:https://sedariders.org/event/d4k-team-clinic-with-lendon-gray/
LOCATION:Mills Farm Equestrian\, 1601 Hwy 357\, Opelousas\, LA\, United States
CATEGORIES:Courtesy Event
ORGANIZER;CN="Mills Farm Equestrian":MAILTO:millsfarmeq@gmail.com
END:VEVENT
BEGIN:VEVENT
DTSTART;VALUE=DATE:20231202
DTEND;VALUE=DATE:20231204
DTSTAMP:20260420T151744
CREATED:20221021T162606Z
LAST-MODIFIED:20221021T162606Z
UID:25420-1701475200-1701647999@sedariders.org
SUMMARY:December Schooling Fleur de Leap
DESCRIPTION:Schooling horse trials\, combined test\, and dressage only
URL:https://sedariders.org/event/december-schooling-fleur-de-leap-2/
LOCATION:Lagniappe Equestrian Center\, 13349 Verger Road\, Folsom\, LA\, 70437\, United States
CATEGORIES:SEDA Event,SEDA-Recognized Event
ORGANIZER;CN="Emily Embree":MAILTO:eventing@sedariders.org
END:VEVENT
BEGIN:VEVENT
DTSTART;VALUE=DATE:20231201
DTEND;VALUE=DATE:20231202
DTSTAMP:20260420T151744
CREATED:20230919T190502Z
LAST-MODIFIED:20230919T190502Z
UID:25772-1701388800-1701475199@sedariders.org
SUMMARY:Bodywork Clinic
DESCRIPTION:with Jackie Jolie
URL:https://sedariders.org/event/bodywork-clinic/
LOCATION:Mills Farm Equestrian\, 1601 Hwy 357\, Opelousas\, LA\, United States
CATEGORIES:Courtesy Event
ORGANIZER;CN="Mills Farm Equestrian":MAILTO:millsfarmeq@gmail.com
END:VEVENT
BEGIN:VEVENT
DTSTART;VALUE=DATE:20231111
DTEND;VALUE=DATE:20231112
DTSTAMP:20260420T151744
CREATED:20221021T162515Z
LAST-MODIFIED:20230729T194351Z
UID:25418-1699660800-1699747199@sedariders.org
SUMMARY:LEC Horse Trials in a  Day and Dressage Only
DESCRIPTION:horse trials\, combined test\, and Dressage only \n#2 of 2
URL:https://sedariders.org/event/lec-combined-test-and-dressage-only-2/
LOCATION:Lagniappe Equestrian Center\, 13349 Verger Road\, Folsom\, LA\, 70437\, United States
CATEGORIES:SEDA-Recognized Event
ORGANIZER;CN="Sharon Londono":MAILTO:lagniappefarm@bellsouth.net
END:VEVENT
BEGIN:VEVENT
DTSTART;VALUE=DATE:20231101
DTEND;VALUE=DATE:20231102
DTSTAMP:20260420T151744
CREATED:20221206T034821Z
LAST-MODIFIED:20221206T034821Z
UID:25552-1698796800-1698883199@sedariders.org
SUMMARY:SEDA Fall Scholarship Deadline
DESCRIPTION:SEDA Scholarship deadline \nDetails here
URL:https://sedariders.org/event/seda-fall-scholarship-deadline/
LOCATION:LA
CATEGORIES:SEDA Event
END:VEVENT
BEGIN:VEVENT
DTSTART;VALUE=DATE:20231028
DTEND;VALUE=DATE:20231030
DTSTAMP:20260420T151744
CREATED:20230919T190402Z
LAST-MODIFIED:20230919T190402Z
UID:25768-1698451200-1698623999@sedariders.org
SUMMARY:Ben Ebeling Clinic
DESCRIPTION:Dressage clinic \nMills Farm Equestrian\nOpelousas\, La
URL:https://sedariders.org/event/ben-ebeling-clinic/
LOCATION:Mills Farm Equestrian\, 1601 Hwy 357\, Opelousas\, LA\, United States
CATEGORIES:Courtesy Event
ORGANIZER;CN="Mills Farm Equestrian":MAILTO:millsfarmeq@gmail.com
END:VEVENT
BEGIN:VEVENT
DTSTART;VALUE=DATE:20231028
DTEND;VALUE=DATE:20231030
DTSTAMP:20260420T151744
CREATED:20221206T034526Z
LAST-MODIFIED:20221206T034526Z
UID:25548-1698451200-1698623999@sedariders.org
SUMMARY:Le Bon Temps
DESCRIPTION:SEDA’s licensed dressage show
URL:https://sedariders.org/event/le-bon-temps-2/
LOCATION:Amen Corner Farm\, 27519 Polo Rd\, Folsom\, LA\, 70437\, United States
CATEGORIES:SEDA Event,SEDA-Recognized Event
ORGANIZER;CN="Judi Dauterive":MAILTO:ponyparade@hotmail.com
END:VEVENT
BEGIN:VEVENT
DTSTART;VALUE=DATE:20231019
DTEND;VALUE=DATE:20231023
DTSTAMP:20260420T151744
CREATED:20230822T233505Z
LAST-MODIFIED:20230822T233505Z
UID:25754-1697673600-1698019199@sedariders.org
SUMMARY:Abi Lyle Clinic
DESCRIPTION:International Dressage Rider Abi Lyle is returning October 19-22\, 2023.
URL:https://sedariders.org/event/abi-lyle-clinic/
LOCATION:Stirling Farm\, Hay Hollow Road\, Folsom\, LA\, 70437\, United States
CATEGORIES:Courtesy Event
END:VEVENT
BEGIN:VEVENT
DTSTART;VALUE=DATE:20230930
DTEND;VALUE=DATE:20231002
DTSTAMP:20260420T151744
CREATED:20221202T000500Z
LAST-MODIFIED:20221202T000500Z
UID:25531-1696032000-1696204799@sedariders.org
SUMMARY:Fall Fleur de Leap
DESCRIPTION:
URL:https://sedariders.org/event/fall-fleur-de-leap-2/
LOCATION:Lagniappe Equestrian Center\, 13349 Verger Road\, Folsom\, LA\, 70437\, United States
CATEGORIES:SEDA Event,SEDA-Recognized Event
ORGANIZER;CN="Emily Embree":MAILTO:eventing@sedariders.org
END:VEVENT
BEGIN:VEVENT
DTSTART;VALUE=DATE:20230923
DTEND;VALUE=DATE:20230925
DTSTAMP:20260420T151744
CREATED:20221206T034436Z
LAST-MODIFIED:20221206T034436Z
UID:25546-1695427200-1695599999@sedariders.org
SUMMARY:Amen Corner Schooling Dressage
DESCRIPTION:schooling dressage show
URL:https://sedariders.org/event/amen-corner-schooling-dressage-3/
LOCATION:Amen Corner Farm\, 27519 Polo Rd\, Folsom\, LA\, 70437\, United States
CATEGORIES:SEDA-Recognized Event
ORGANIZER;CN="Judi Dauterive":MAILTO:ponyparade@hotmail.com
END:VEVENT
BEGIN:VEVENT
DTSTART;VALUE=DATE:20230909
DTEND;VALUE=DATE:20230910
DTSTAMP:20260420T151744
CREATED:20221021T162416Z
LAST-MODIFIED:20221021T162416Z
UID:25416-1694217600-1694303999@sedariders.org
SUMMARY:LEC Just Jumpers and Derby Cross
DESCRIPTION:Just Jumpers and Derby Cross \n*NOT SEDA-recognized for year end awards*
URL:https://sedariders.org/event/lec-just-jumpers-and-derby-cross-4/
LOCATION:Lagniappe Equestrian Center\, 13349 Verger Road\, Folsom\, LA\, 70437\, United States
CATEGORIES:Courtesy Event
ORGANIZER;CN="Sharon Londono":MAILTO:lagniappefarm@bellsouth.net
END:VEVENT
BEGIN:VEVENT
DTSTART;TZID=America/Chicago:20230805T080000
DTEND;TZID=America/Chicago:20230805T170000
DTSTAMP:20260420T151744
CREATED:20221021T162319Z
LAST-MODIFIED:20230729T194326Z
UID:25414-1691222400-1691254800@sedariders.org
SUMMARY:LEC Combined Test and Dressage Only
DESCRIPTION:Combined Test and dressage only offered \n#2 of 2
URL:https://sedariders.org/event/lec-horse-trials-in-a-day-and-dressage-only-2/
LOCATION:Lagniappe Equestrian Center\, 13349 Verger Road\, Folsom\, LA\, 70437\, United States
CATEGORIES:SEDA-Recognized Event
ORGANIZER;CN="Sharon Londono":MAILTO:lagniappefarm@bellsouth.net
END:VEVENT
BEGIN:VEVENT
DTSTART;VALUE=DATE:20230617
DTEND;VALUE=DATE:20230618
DTSTAMP:20260420T151744
CREATED:20221021T162218Z
LAST-MODIFIED:20221021T162218Z
UID:25412-1686960000-1687046399@sedariders.org
SUMMARY:LEC Combined Test and Dressage Only
DESCRIPTION:LEC Combined Test and Dressage Only \n#1 of 2
URL:https://sedariders.org/event/lec-combined-test-and-dressage-only/
LOCATION:Lagniappe Equestrian Center\, 13349 Verger Road\, Folsom\, LA\, 70437\, United States
CATEGORIES:SEDA-Recognized Event
ORGANIZER;CN="Sharon Londono":MAILTO:lagniappefarm@bellsouth.net
END:VEVENT
BEGIN:VEVENT
DTSTART;VALUE=DATE:20230528
DTEND;VALUE=DATE:20230529
DTSTAMP:20260420T151744
CREATED:20230427T221749Z
LAST-MODIFIED:20230427T221749Z
UID:25684-1685232000-1685318399@sedariders.org
SUMMARY:Ride a Test Clinic with Laura Ashley Killian
DESCRIPTION:Ride a test clinic with Laura Ashley Killian
URL:https://sedariders.org/event/ride-a-test-clinic-with-laura-ashley-killian/
LOCATION:Amen Corner Farm\, 27519 Polo Rd\, Folsom\, LA\, 70437\, United States
CATEGORIES:Courtesy Event
ORGANIZER;CN="Judi Dauterive":MAILTO:ponyparade@hotmail.com
END:VEVENT
BEGIN:VEVENT
DTSTART;VALUE=DATE:20230527
DTEND;VALUE=DATE:20230529
DTSTAMP:20260420T151744
CREATED:20221206T034326Z
LAST-MODIFIED:20221206T034326Z
UID:25544-1685145600-1685318399@sedariders.org
SUMMARY:Amen Corner Schooling Dressage Show
DESCRIPTION:Schooling dressage show
URL:https://sedariders.org/event/amen-corner-schooling-dressage-show-2/
LOCATION:Amen Corner Farm\, 27519 Polo Rd\, Folsom\, LA\, 70437\, United States
CATEGORIES:SEDA-Recognized Event
ORGANIZER;CN="Judi Dauterive":MAILTO:ponyparade@hotmail.com
END:VEVENT
BEGIN:VEVENT
DTSTART;VALUE=DATE:20230526
DTEND;VALUE=DATE:20230529
DTSTAMP:20260420T151744
CREATED:20230427T221917Z
LAST-MODIFIED:20230427T221917Z
UID:25686-1685059200-1685318399@sedariders.org
SUMMARY:Aaron Nobbs Jumping Clinic
DESCRIPTION:Come jump with Aaron Nobbs \nInfo here
URL:https://sedariders.org/event/aaron-nobbs-jumping-clinic/
LOCATION:Amen Corner Farm\, 27519 Polo Rd\, Folsom\, LA\, 70437\, United States
ORGANIZER;CN="Judi Dauterive":MAILTO:ponyparade@hotmail.com
END:VEVENT
END:VCALENDAR