BEGIN:VCALENDAR
VERSION:2.0
PRODID:-//Southern Eventing and Dressage Association - SEDA - ECPv6.15.20//NONSGML v1.0//EN
CALSCALE:GREGORIAN
METHOD:PUBLISH
X-WR-CALNAME:Southern Eventing and Dressage Association - SEDA
X-ORIGINAL-URL:https://sedariders.org
X-WR-CALDESC:Events for Southern Eventing and Dressage Association - SEDA
REFRESH-INTERVAL;VALUE=DURATION:PT1H
X-Robots-Tag:noindex
X-PUBLISHED-TTL:PT1H
BEGIN:VTIMEZONE
TZID:America/Chicago
BEGIN:DAYLIGHT
TZOFFSETFROM:-0600
TZOFFSETTO:-0500
TZNAME:CDT
DTSTART:20200308T080000
END:DAYLIGHT
BEGIN:STANDARD
TZOFFSETFROM:-0500
TZOFFSETTO:-0600
TZNAME:CST
DTSTART:20201101T070000
END:STANDARD
BEGIN:DAYLIGHT
TZOFFSETFROM:-0600
TZOFFSETTO:-0500
TZNAME:CDT
DTSTART:20210314T080000
END:DAYLIGHT
BEGIN:STANDARD
TZOFFSETFROM:-0500
TZOFFSETTO:-0600
TZNAME:CST
DTSTART:20211107T070000
END:STANDARD
BEGIN:DAYLIGHT
TZOFFSETFROM:-0600
TZOFFSETTO:-0500
TZNAME:CDT
DTSTART:20220313T080000
END:DAYLIGHT
BEGIN:STANDARD
TZOFFSETFROM:-0500
TZOFFSETTO:-0600
TZNAME:CST
DTSTART:20221106T070000
END:STANDARD
END:VTIMEZONE
BEGIN:VEVENT
DTSTART;VALUE=DATE:20210306
DTEND;VALUE=DATE:20210308
DTSTAMP:20260420T225002
CREATED:20210327T233229Z
LAST-MODIFIED:20210327T233229Z
UID:23715-1614988800-1615161599@sedariders.org
SUMMARY:Spring Fleur de Leap
DESCRIPTION:Schooling Dressage\, Horse Trials and Combined Test
URL:https://sedariders.org/event/spring-fleur-de-leap/
LOCATION:Lagniappe Equestrian Center\, 13349 Verger Road\, Folsom\, LA\, 70437\, United States
CATEGORIES:SEDA Event,SEDA-Recognized Event
ORGANIZER;CN="Emily Embree":MAILTO:eventing@sedariders.org
END:VEVENT
BEGIN:VEVENT
DTSTART;VALUE=DATE:20210220
DTEND;VALUE=DATE:20210222
DTSTAMP:20260420T225002
CREATED:20210327T231941Z
LAST-MODIFIED:20210327T231949Z
UID:23702-1613779200-1613951999@sedariders.org
SUMMARY:Amen Corner Farm Schooling Dressage and CT
DESCRIPTION:
URL:https://sedariders.org/event/amen-corner-farm-schooling-dressage-and-ct/
LOCATION:Amen Corner Farm\, 27519 Polo Rd\, Folsom\, LA\, 70437\, United States
CATEGORIES:SEDA-Recognized Event
ORGANIZER;CN="Judi Dauterive":MAILTO:ponyparade@hotmail.com
END:VEVENT
BEGIN:VEVENT
DTSTART;VALUE=DATE:20210123
DTEND;VALUE=DATE:20210125
DTSTAMP:20260420T225002
CREATED:20210327T231702Z
LAST-MODIFIED:20210327T231702Z
UID:23699-1611360000-1611532799@sedariders.org
SUMMARY:SEDA Schooling Dressage Championships and Schooling Dressage Show
DESCRIPTION:Schooling Dressage show Saturday \nSchooling Dressage Championships Sunday
URL:https://sedariders.org/event/seda-schooling-dressage-championships-and-schooling-dressage-show/
LOCATION:Amen Corner Farm\, 27519 Polo Rd\, Folsom\, LA\, 70437\, United States
CATEGORIES:SEDA-Recognized Event
ORGANIZER;CN="Judi Dauterive":MAILTO:ponyparade@hotmail.com
END:VEVENT
END:VCALENDAR