BEGIN:VCALENDAR
VERSION:2.0
PRODID:-//Southern Eventing and Dressage Association - SEDA - ECPv6.15.20//NONSGML v1.0//EN
CALSCALE:GREGORIAN
METHOD:PUBLISH
X-ORIGINAL-URL:https://sedariders.org
X-WR-CALDESC:Events for Southern Eventing and Dressage Association - SEDA
REFRESH-INTERVAL;VALUE=DURATION:PT1H
X-Robots-Tag:noindex
X-PUBLISHED-TTL:PT1H
BEGIN:VTIMEZONE
TZID:America/Chicago
BEGIN:DAYLIGHT
TZOFFSETFROM:-0600
TZOFFSETTO:-0500
TZNAME:CDT
DTSTART:20240310T080000
END:DAYLIGHT
BEGIN:STANDARD
TZOFFSETFROM:-0500
TZOFFSETTO:-0600
TZNAME:CST
DTSTART:20241103T070000
END:STANDARD
BEGIN:DAYLIGHT
TZOFFSETFROM:-0600
TZOFFSETTO:-0500
TZNAME:CDT
DTSTART:20250309T080000
END:DAYLIGHT
BEGIN:STANDARD
TZOFFSETFROM:-0500
TZOFFSETTO:-0600
TZNAME:CST
DTSTART:20251102T070000
END:STANDARD
BEGIN:DAYLIGHT
TZOFFSETFROM:-0600
TZOFFSETTO:-0500
TZNAME:CDT
DTSTART:20260308T080000
END:DAYLIGHT
BEGIN:STANDARD
TZOFFSETFROM:-0500
TZOFFSETTO:-0600
TZNAME:CST
DTSTART:20261101T070000
END:STANDARD
BEGIN:DAYLIGHT
TZOFFSETFROM:-0600
TZOFFSETTO:-0500
TZNAME:CDT
DTSTART:20270314T080000
END:DAYLIGHT
BEGIN:STANDARD
TZOFFSETFROM:-0500
TZOFFSETTO:-0600
TZNAME:CST
DTSTART:20271107T070000
END:STANDARD
END:VTIMEZONE
BEGIN:VEVENT
DTSTART;TZID=America/Chicago:20250201T170000
DTEND;TZID=America/Chicago:20250201T210000
DTSTAMP:20260425T213041
CREATED:20240405T220440Z
LAST-MODIFIED:20240529T022103Z
UID:26033-1738429200-1738443600@sedariders.org
SUMMARY:SEDA Year End Awards Banquet
DESCRIPTION:SEDA Year End Awards Banquet \nSaturday\, February 1\, 2025 \nFleur de Lis Event Center\n1645 N Causeway Blvd\nMandeville\, LA 70471 \n5:00PM-9:00PM
URL:https://sedariders.org/event/seda-year-end-awards-banquet-3/
LOCATION:Fleur de Lis Event Center\, 1645 N Causeway Blvd\, Mandeville\, LA\, 70471\, United States
CATEGORIES:SEDA Event,SEDA-Recognized Event
END:VEVENT
BEGIN:VEVENT
DTSTART;VALUE=DATE:20250322
DTEND;VALUE=DATE:20250324
DTSTAMP:20260425T213041
CREATED:20241025T215506Z
LAST-MODIFIED:20241025T215506Z
UID:26220-1742601600-1742774399@sedariders.org
SUMMARY:Schooling Fleur de Leap
DESCRIPTION:Schooling dressage\, horse trials\, and combined test
URL:https://sedariders.org/event/schooling-fleur-de-leap/
LOCATION:Lagniappe Equestrian Center\, 13349 Verger Road\, Folsom\, LA\, 70437\, United States
CATEGORIES:SEDA Event,SEDA-Recognized Event
ORGANIZER;CN="Emily Embree":MAILTO:eventing@sedariders.org
END:VEVENT
BEGIN:VEVENT
DTSTART;VALUE=DATE:20250510
DTEND;VALUE=DATE:20250512
DTSTAMP:20260425T213041
CREATED:20241025T215648Z
LAST-MODIFIED:20241025T215648Z
UID:26224-1746835200-1747007999@sedariders.org
SUMMARY:Le Bon Temps II
DESCRIPTION:Licensed dressage show
URL:https://sedariders.org/event/le-bon-temps-ii/
LOCATION:Amen Corner Farm\, 27519 Polo Rd\, Folsom\, LA\, 70437\, United States
CATEGORIES:SEDA Event,SEDA-Recognized Event
ORGANIZER;CN="Judi Dauterive":MAILTO:ponyparade@hotmail.com
END:VEVENT
BEGIN:VEVENT
DTSTART;VALUE=DATE:20250628
DTEND;VALUE=DATE:20250629
DTSTAMP:20260425T213041
CREATED:20250416T221614Z
LAST-MODIFIED:20250416T221614Z
UID:26544-1751068800-1751155199@sedariders.org
SUMMARY:SPORTHORSE HANDLING CLINIC WITH CHRISTINE SMITH
DESCRIPTION: CHRISTINE SMITH USDF Certified Clinician for in-hand showing  \nMember\, USDF Sport Horse Committee. Educates breeders\, owners\, handlers\, trainers\, and judges about the ideals of dressage sport horse prospects and breeding stock. Encourages the efforts of USDF member breeders in producing the highest quality dressage sport horses. Provides dressage sport horse competition management\, owners\, and breeders with competition guidelines and opportunities. Nurtures and develops future generations for the dressage sport horse breeding industry.  \nFlyer
URL:https://sedariders.org/event/sporthorse-handling-clinic-with-christine-smith/
LOCATION:Kalie Beckers Dressage\, Folsom\, LA\, 70437\, United States
CATEGORIES:SEDA Event,SEDA-Recognized Event
ORGANIZER;CN="Judi Dauterive":MAILTO:ponyparade@hotmail.com
END:VEVENT
BEGIN:VEVENT
DTSTART;VALUE=DATE:20251108
DTEND;VALUE=DATE:20251110
DTSTAMP:20260425T213041
CREATED:20241025T220056Z
LAST-MODIFIED:20250124T183301Z
UID:26236-1762560000-1762732799@sedariders.org
SUMMARY:Fleur de Leap
DESCRIPTION:Licensed Horse Trials
URL:https://sedariders.org/event/fleur-de-leap-2/
LOCATION:Lagniappe Equestrian Center\, 13349 Verger Road\, Folsom\, LA\, 70437\, United States
CATEGORIES:SEDA Event,SEDA-Recognized Event
ORGANIZER;CN="Emily Embree":MAILTO:eventing@sedariders.org
END:VEVENT
BEGIN:VEVENT
DTSTART;VALUE=DATE:20251122
DTEND;VALUE=DATE:20251124
DTSTAMP:20260425T213041
CREATED:20241025T220309Z
LAST-MODIFIED:20241025T220309Z
UID:26242-1763769600-1763942399@sedariders.org
SUMMARY:Le Bon Temps Licensed Dressage
DESCRIPTION:
URL:https://sedariders.org/event/le-bon-temps-licensed-dressage/
LOCATION:Amen Corner Farm\, 27519 Polo Rd\, Folsom\, LA\, 70437\, United States
CATEGORIES:SEDA Event,SEDA-Recognized Event
ORGANIZER;CN="Judi Dauterive":MAILTO:ponyparade@hotmail.com
END:VEVENT
BEGIN:VEVENT
DTSTART;VALUE=DATE:20251206
DTEND;VALUE=DATE:20251208
DTSTAMP:20260425T213041
CREATED:20241025T220400Z
LAST-MODIFIED:20241025T220400Z
UID:26244-1764979200-1765151999@sedariders.org
SUMMARY:Schooling Fleur de Leap
DESCRIPTION:Schooling horse trials\, combined test\, and dressage only
URL:https://sedariders.org/event/schooling-fleur-de-leap-2/
LOCATION:Lagniappe Equestrian Center\, 13349 Verger Road\, Folsom\, LA\, 70437\, United States
CATEGORIES:SEDA Event,SEDA-Recognized Event
ORGANIZER;CN="Emily Embree":MAILTO:eventing@sedariders.org
END:VEVENT
BEGIN:VEVENT
DTSTART;VALUE=DATE:20260124
DTEND;VALUE=DATE:20260126
DTSTAMP:20260425T213041
CREATED:20250430T195611Z
LAST-MODIFIED:20250430T195611Z
UID:26571-1769212800-1769385599@sedariders.org
SUMMARY:SEDA Schooling Dressage Championships
DESCRIPTION:Join us for the Schooling Dressage Championships!
URL:https://sedariders.org/event/seda-schooling-dressage-championships-5/
LOCATION:Amen Corner Farm\, 27519 Polo Rd\, Folsom\, LA\, 70437\, United States
CATEGORIES:SEDA Event,SEDA-Recognized Event
ORGANIZER;CN="Judi Dauterive":MAILTO:ponyparade@hotmail.com
END:VEVENT
BEGIN:VEVENT
DTSTART;TZID=America/Chicago:20260131T170000
DTEND;TZID=America/Chicago:20260131T210000
DTSTAMP:20260425T213041
CREATED:20250317T213008Z
LAST-MODIFIED:20250505T211407Z
UID:26514-1769878800-1769893200@sedariders.org
SUMMARY:SEDA Annual Awards Banquet
DESCRIPTION:Join us for the annual bash celebrating your achievements. This year\, we’re celebrating our Golden Anniversary … so our theme is GOLD! However you want to interpret that !! \n$60per person\nCash bar\nDoors open at 5:00PM\nProgram starts 5:30PM\nDinner 6:00PM \nRaffles\, door prizes\, and entertainment!
URL:https://sedariders.org/event/seda-annual-awards-banquet/
LOCATION:Covington Country Club\, 200 Country Club Dr\, Covington\, LA\, 70433\, United States
CATEGORIES:SEDA Event
ORGANIZER;CN="Nicole Miller":MAILTO:vicepres@sedariders.org
END:VEVENT
BEGIN:VEVENT
DTSTART;VALUE=DATE:20260228
DTEND;VALUE=DATE:20260302
DTSTAMP:20260425T213041
CREATED:20251013T010347Z
LAST-MODIFIED:20260210T022508Z
UID:26773-1772236800-1772409599@sedariders.org
SUMMARY:Landsafe Clinic: CANCELLED
DESCRIPTION:SADLY\, WE HAD TO CANCEL THIS CLINIC DUE TO LACK OF INTEREST
URL:https://sedariders.org/event/landsafe-clinic/
LOCATION:Hitch Stables\, Polo Rd\, Folsom\, LA\, 70437\, United States
CATEGORIES:SEDA Event
ORGANIZER;CN="Danielle Aymond":MAILTO:juniors@sedariders.org
END:VEVENT
BEGIN:VEVENT
DTSTART;VALUE=DATE:20260328
DTEND;VALUE=DATE:20260330
DTSTAMP:20260425T213041
CREATED:20251113T212543Z
LAST-MODIFIED:20251113T212543Z
UID:26839-1774656000-1774828799@sedariders.org
SUMMARY:Spring Schooling Fleur de Leap
DESCRIPTION:Schooling horse trials\, combined test\, and dressage show
URL:https://sedariders.org/event/spring-schooling-fleur-de-leap-3/
LOCATION:Lagniappe Equestrian Center\, 13349 Verger Road\, Folsom\, LA\, 70437\, United States
CATEGORIES:SEDA Event,SEDA-Recognized Event
ORGANIZER;CN="Emily Embree":MAILTO:eventing@sedariders.org
END:VEVENT
BEGIN:VEVENT
DTSTART;VALUE=DATE:20260509
DTEND;VALUE=DATE:20260511
DTSTAMP:20260425T213041
CREATED:20250430T195835Z
LAST-MODIFIED:20250430T195835Z
UID:26577-1778284800-1778457599@sedariders.org
SUMMARY:Le Bon Temps I
DESCRIPTION:Licensed Dressage Show
URL:https://sedariders.org/event/le-bon-temps-i/
LOCATION:Amen Corner Farm\, 27519 Polo Rd\, Folsom\, LA\, 70437\, United States
CATEGORIES:SEDA Event,SEDA-Recognized Event
ORGANIZER;CN="Judi Dauterive":MAILTO:ponyparade@hotmail.com
END:VEVENT
BEGIN:VEVENT
DTSTART;VALUE=DATE:20260627
DTEND;VALUE=DATE:20260629
DTSTAMP:20260425T213041
CREATED:20251113T212828Z
LAST-MODIFIED:20260307T034220Z
UID:26844-1782518400-1782691199@sedariders.org
SUMMARY:SEDA Junior Classic
DESCRIPTION:Junior fun at Hunters Bluff
URL:https://sedariders.org/event/seda-juniors-only-show/
LOCATION:Hunters Bluff\, 77111 Highway 25\, Covington\, LA\, United States
CATEGORIES:SEDA Event,SEDA-Recognized Event
ORGANIZER;CN="Danielle Aymond":MAILTO:juniors@sedariders.org
END:VEVENT
BEGIN:VEVENT
DTSTART;VALUE=DATE:20261107
DTEND;VALUE=DATE:20261109
DTSTAMP:20260425T213041
CREATED:20251113T212433Z
LAST-MODIFIED:20251113T212433Z
UID:26837-1794009600-1794182399@sedariders.org
SUMMARY:Licensed Fleur de Leap Horse Trials
DESCRIPTION:USEA Licensed Fleur de Leap Horse Trials
URL:https://sedariders.org/event/licensed-fleur-de-leap-horse-trials/
LOCATION:Lagniappe Equestrian Center\, 13349 Verger Road\, Folsom\, LA\, 70437\, United States
CATEGORIES:SEDA Event,SEDA-Recognized Event
ORGANIZER;CN="Emily Embree":MAILTO:eventing@sedariders.org
END:VEVENT
BEGIN:VEVENT
DTSTART;VALUE=DATE:20261121
DTEND;VALUE=DATE:20261123
DTSTAMP:20260425T213041
CREATED:20250430T200058Z
LAST-MODIFIED:20250430T200058Z
UID:26583-1795219200-1795391999@sedariders.org
SUMMARY:Le Bon Temps II
DESCRIPTION:Licensed dressage show
URL:https://sedariders.org/event/le-bon-temps-ii-2/
LOCATION:Amen Corner Farm\, 27519 Polo Rd\, Folsom\, LA\, 70437\, United States
CATEGORIES:SEDA Event,SEDA-Recognized Event
ORGANIZER;CN="Judi Dauterive":MAILTO:ponyparade@hotmail.com
END:VEVENT
BEGIN:VEVENT
DTSTART;VALUE=DATE:20261205
DTEND;VALUE=DATE:20261207
DTSTAMP:20260425T213041
CREATED:20251113T212632Z
LAST-MODIFIED:20251113T212632Z
UID:26842-1796428800-1796601599@sedariders.org
SUMMARY:Holiday Fleur de Leap
DESCRIPTION:Schooling horse trials\, combined test\, and dressage show
URL:https://sedariders.org/event/holiday-fleur-de-leap/
LOCATION:Lagniappe Equestrian Center\, 13349 Verger Road\, Folsom\, LA\, 70437\, United States
CATEGORIES:SEDA Event,SEDA-Recognized Event
ORGANIZER;CN="Emily Embree":MAILTO:eventing@sedariders.org
END:VEVENT
END:VCALENDAR