BEGIN:VCALENDAR
VERSION:2.0
PRODID:-//Southern Eventing and Dressage Association - SEDA - ECPv6.15.20//NONSGML v1.0//EN
CALSCALE:GREGORIAN
METHOD:PUBLISH
X-ORIGINAL-URL:https://sedariders.org
X-WR-CALDESC:Events for Southern Eventing and Dressage Association - SEDA
REFRESH-INTERVAL;VALUE=DURATION:PT1H
X-Robots-Tag:noindex
X-PUBLISHED-TTL:PT1H
BEGIN:VTIMEZONE
TZID:America/Chicago
BEGIN:DAYLIGHT
TZOFFSETFROM:-0600
TZOFFSETTO:-0500
TZNAME:CDT
DTSTART:20230312T080000
END:DAYLIGHT
BEGIN:STANDARD
TZOFFSETFROM:-0500
TZOFFSETTO:-0600
TZNAME:CST
DTSTART:20231105T070000
END:STANDARD
BEGIN:DAYLIGHT
TZOFFSETFROM:-0600
TZOFFSETTO:-0500
TZNAME:CDT
DTSTART:20240310T080000
END:DAYLIGHT
BEGIN:STANDARD
TZOFFSETFROM:-0500
TZOFFSETTO:-0600
TZNAME:CST
DTSTART:20241103T070000
END:STANDARD
BEGIN:DAYLIGHT
TZOFFSETFROM:-0600
TZOFFSETTO:-0500
TZNAME:CDT
DTSTART:20250309T080000
END:DAYLIGHT
BEGIN:STANDARD
TZOFFSETFROM:-0500
TZOFFSETTO:-0600
TZNAME:CST
DTSTART:20251102T070000
END:STANDARD
BEGIN:DAYLIGHT
TZOFFSETFROM:-0600
TZOFFSETTO:-0500
TZNAME:CDT
DTSTART:20260308T080000
END:DAYLIGHT
BEGIN:STANDARD
TZOFFSETFROM:-0500
TZOFFSETTO:-0600
TZNAME:CST
DTSTART:20261101T070000
END:STANDARD
BEGIN:DAYLIGHT
TZOFFSETFROM:-0600
TZOFFSETTO:-0500
TZNAME:CDT
DTSTART:20270314T080000
END:DAYLIGHT
BEGIN:STANDARD
TZOFFSETFROM:-0500
TZOFFSETTO:-0600
TZNAME:CST
DTSTART:20271107T070000
END:STANDARD
END:VTIMEZONE
BEGIN:VEVENT
DTSTART;VALUE=DATE:20240120
DTEND;VALUE=DATE:20240122
DTSTAMP:20260422T173201
CREATED:20230919T190724Z
LAST-MODIFIED:20230919T190724Z
UID:25778-1705708800-1705881599@sedariders.org
SUMMARY:Janet Foy Dressage Clinic
DESCRIPTION:
URL:https://sedariders.org/event/janet-foy-dressage-clinic/
LOCATION:Mills Farm Equestrian\, 1601 Hwy 357\, Opelousas\, LA\, United States
CATEGORIES:Courtesy Event
ORGANIZER;CN="Mills Farm Equestrian":MAILTO:millsfarmeq@gmail.com
END:VEVENT
BEGIN:VEVENT
DTSTART;VALUE=DATE:20240203
DTEND;VALUE=DATE:20240204
DTSTAMP:20260422T173201
CREATED:20231004T001721Z
LAST-MODIFIED:20231004T001721Z
UID:25805-1706918400-1707004799@sedariders.org
SUMMARY:LEC Just Jumpers
DESCRIPTION:Just jumping! Not SEDA-recognized\, but come jump some rounds!
URL:https://sedariders.org/event/lec-just-jumpers/
LOCATION:Lagniappe Equestrian Center\, 13349 Verger Road\, Folsom\, LA\, 70437\, United States
CATEGORIES:Courtesy Event
ORGANIZER;CN="Sharon Londono":MAILTO:lagniappefarm@bellsouth.net
END:VEVENT
BEGIN:VEVENT
DTSTART;VALUE=DATE:20240907
DTEND;VALUE=DATE:20240908
DTSTAMP:20260422T173201
CREATED:20231004T002318Z
LAST-MODIFIED:20231004T002318Z
UID:25815-1725667200-1725753599@sedariders.org
SUMMARY:LEC Just Jumpers
DESCRIPTION:Just jumping. Not SEDA-recognized\, but come jump some rounds
URL:https://sedariders.org/event/lec-just-jumpers-2/
LOCATION:Lagniappe Equestrian Center\, 13349 Verger Road\, Folsom\, LA\, 70437\, United States
CATEGORIES:Courtesy Event
ORGANIZER;CN="Sharon Londono":MAILTO:lagniappefarm@bellsouth.net
END:VEVENT
BEGIN:VEVENT
DTSTART;VALUE=DATE:20250207
DTEND;VALUE=DATE:20250211
DTSTAMP:20260422T173201
CREATED:20241130T014214Z
LAST-MODIFIED:20241130T014214Z
UID:26374-1738886400-1739231999@sedariders.org
SUMMARY:Abi Lyle Clinic
DESCRIPTION:
URL:https://sedariders.org/event/abi-lyle-clinic-3/
LOCATION:Stirling Farm\, Hay Hollow Road\, Folsom\, LA\, 70437\, United States
CATEGORIES:Courtesy Event
END:VEVENT
BEGIN:VEVENT
DTSTART;VALUE=DATE:20250215
DTEND;VALUE=DATE:20250216
DTSTAMP:20260422T173201
CREATED:20241025T215149Z
LAST-MODIFIED:20250123T224505Z
UID:26214-1739577600-1739663999@sedariders.org
SUMMARY:Just Jumpers
DESCRIPTION:Lagniappe Equestrian Center Just Jumpers show. \nThis is not a SEDA-recognized event.
URL:https://sedariders.org/event/just-jumpers-2/
LOCATION:Lagniappe Equestrian Center\, 13349 Verger Road\, Folsom\, LA\, 70437\, United States
CATEGORIES:Courtesy Event
ORGANIZER;CN="Sharon Londono":MAILTO:lagniappefarm@bellsouth.net
END:VEVENT
BEGIN:VEVENT
DTSTART;VALUE=DATE:20250906
DTEND;VALUE=DATE:20250907
DTSTAMP:20260422T173201
CREATED:20241025T215931Z
LAST-MODIFIED:20241025T215931Z
UID:26232-1757116800-1757203199@sedariders.org
SUMMARY:Just Jumpers
DESCRIPTION:Jumping show. \nThis competition is not SEDA-Recognized
URL:https://sedariders.org/event/just-jumpers-3/
LOCATION:Lagniappe Equestrian Center\, 13349 Verger Road\, Folsom\, LA\, 70437\, United States
CATEGORIES:Courtesy Event
ORGANIZER;CN="Sharon Londono":MAILTO:lagniappefarm@bellsouth.net
END:VEVENT
BEGIN:VEVENT
DTSTART;VALUE=DATE:20251030
DTEND;VALUE=DATE:20251103
DTSTAMP:20260422T173201
CREATED:20250606T151729Z
LAST-MODIFIED:20250606T151729Z
UID:26617-1761782400-1762127999@sedariders.org
SUMMARY:Abi Lyle Clinic
DESCRIPTION: Abi is a compassionate and enthusiastic coach. She specializes in test riding\, position work and has all kinds of exercises up her sleeve to improve your horse’s way of going. She also has a phenomenal wealth of knowledge on rider fitness. She produces her own horses from youngsters up to Grand Prix\, and has trained with Carl Hester for over a decade.  \nInformation  \nThe clinic will be held October 30th-Nov 2nd 2025 at Stirling Farm\, Folsom\, La.\nCost: $225 per lesson  \nCameron: (504) 430-1312\nJudi: (504) 453-1791\ndauteriveequestrian@gmail.com  \nLimited stabling available. Please send stabling requests ASAP.  \nAbi Lyle Clinic flyer
URL:https://sedariders.org/event/abi-lyle-clinic-4/
LOCATION:Stirling Farm\, Hay Hollow Road\, Folsom\, LA\, 70437\, United States
CATEGORIES:Courtesy Event
END:VEVENT
BEGIN:VEVENT
DTSTART;VALUE=DATE:20260207
DTEND;VALUE=DATE:20260208
DTSTAMP:20260422T173201
CREATED:20260129T170625Z
LAST-MODIFIED:20260129T170625Z
UID:26964-1770422400-1770508799@sedariders.org
SUMMARY:Just Jumpers
DESCRIPTION:Just Jumpers show at Lagniappe Equestrian Center
URL:https://sedariders.org/event/just-jumpers-4/
LOCATION:Lagniappe Equestrian Center\, 13349 Verger Road\, Folsom\, LA\, 70437\, United States
CATEGORIES:Courtesy Event
ORGANIZER;CN="Sharon Londono":MAILTO:lagniappefarm@bellsouth.net
END:VEVENT
BEGIN:VEVENT
DTSTART;VALUE=DATE:20260905
DTEND;VALUE=DATE:20260906
DTSTAMP:20260422T173201
CREATED:20251113T212245Z
LAST-MODIFIED:20251113T212245Z
UID:26833-1788566400-1788652799@sedariders.org
SUMMARY:Just Jumpers
DESCRIPTION:Just jumpers show at Lagniappe
URL:https://sedariders.org/event/just-jumpers-5/
LOCATION:Lagniappe Equestrian Center\, 13349 Verger Road\, Folsom\, LA\, 70437\, United States
CATEGORIES:Courtesy Event
ORGANIZER;CN="Sharon Londono":MAILTO:lagniappefarm@bellsouth.net
END:VEVENT
END:VCALENDAR