BEGIN:VCALENDAR
VERSION:2.0
PRODID:-//Southern Eventing and Dressage Association - SEDA - ECPv6.15.20//NONSGML v1.0//EN
CALSCALE:GREGORIAN
METHOD:PUBLISH
X-ORIGINAL-URL:https://sedariders.org
X-WR-CALDESC:Events for Southern Eventing and Dressage Association - SEDA
REFRESH-INTERVAL;VALUE=DURATION:PT1H
X-Robots-Tag:noindex
X-PUBLISHED-TTL:PT1H
BEGIN:VTIMEZONE
TZID:America/Chicago
BEGIN:DAYLIGHT
TZOFFSETFROM:-0600
TZOFFSETTO:-0500
TZNAME:CDT
DTSTART:20230312T080000
END:DAYLIGHT
BEGIN:STANDARD
TZOFFSETFROM:-0500
TZOFFSETTO:-0600
TZNAME:CST
DTSTART:20231105T070000
END:STANDARD
BEGIN:DAYLIGHT
TZOFFSETFROM:-0600
TZOFFSETTO:-0500
TZNAME:CDT
DTSTART:20240310T080000
END:DAYLIGHT
BEGIN:STANDARD
TZOFFSETFROM:-0500
TZOFFSETTO:-0600
TZNAME:CST
DTSTART:20241103T070000
END:STANDARD
BEGIN:DAYLIGHT
TZOFFSETFROM:-0600
TZOFFSETTO:-0500
TZNAME:CDT
DTSTART:20250309T080000
END:DAYLIGHT
BEGIN:STANDARD
TZOFFSETFROM:-0500
TZOFFSETTO:-0600
TZNAME:CST
DTSTART:20251102T070000
END:STANDARD
END:VTIMEZONE
BEGIN:VEVENT
DTSTART;VALUE=DATE:20240106
DTEND;VALUE=DATE:20240108
DTSTAMP:20260422T034109
CREATED:20230919T191336Z
LAST-MODIFIED:20230919T191336Z
UID:25780-1704499200-1704671999@sedariders.org
SUMMARY:Heather Blitz Dressage Clinic
DESCRIPTION:$550 for two days / $275 for one day \ncontact Stirling Farm to reserve your spot
URL:https://sedariders.org/event/heather-blitz-dressage-clinic/
LOCATION:Stirling Farm\, Hay Hollow Road\, Folsom\, LA\, 70437\, United States
CATEGORIES:Courtesy Event
ORGANIZER;CN="Stirling Farm":MAILTO:office@stirlingfarm.com
END:VEVENT
BEGIN:VEVENT
DTSTART;VALUE=DATE:20240113
DTEND;VALUE=DATE:20240115
DTSTAMP:20260422T034109
CREATED:20231110T225932Z
LAST-MODIFIED:20231110T225932Z
UID:25871-1705104000-1705276799@sedariders.org
SUMMARY:Valerie Pride Eventing Clinic
DESCRIPTION:Valerie Pride Clinic Flyer
URL:https://sedariders.org/event/valerie-pride-eventing-clinic/
LOCATION:Lagniappe Equestrian Center\, 13349 Verger Road\, Folsom\, LA\, 70437\, United States
CATEGORIES:Courtesy Event
ORGANIZER;CN="Sharon Londono":MAILTO:lagniappefarm@bellsouth.net
END:VEVENT
BEGIN:VEVENT
DTSTART;VALUE=DATE:20240120
DTEND;VALUE=DATE:20240122
DTSTAMP:20260422T034109
CREATED:20230919T190724Z
LAST-MODIFIED:20230919T190724Z
UID:25778-1705708800-1705881599@sedariders.org
SUMMARY:Janet Foy Dressage Clinic
DESCRIPTION:
URL:https://sedariders.org/event/janet-foy-dressage-clinic/
LOCATION:Mills Farm Equestrian\, 1601 Hwy 357\, Opelousas\, LA\, United States
CATEGORIES:Courtesy Event
ORGANIZER;CN="Mills Farm Equestrian":MAILTO:millsfarmeq@gmail.com
END:VEVENT
END:VCALENDAR