BEGIN:VCALENDAR
VERSION:2.0
PRODID:-//Southern Eventing and Dressage Association - SEDA - ECPv6.15.20//NONSGML v1.0//EN
CALSCALE:GREGORIAN
METHOD:PUBLISH
X-WR-CALNAME:Southern Eventing and Dressage Association - SEDA
X-ORIGINAL-URL:https://sedariders.org
X-WR-CALDESC:Events for Southern Eventing and Dressage Association - SEDA
REFRESH-INTERVAL;VALUE=DURATION:PT1H
X-Robots-Tag:noindex
X-PUBLISHED-TTL:PT1H
BEGIN:VTIMEZONE
TZID:America/Chicago
BEGIN:DAYLIGHT
TZOFFSETFROM:-0600
TZOFFSETTO:-0500
TZNAME:CDT
DTSTART:20210314T080000
END:DAYLIGHT
BEGIN:STANDARD
TZOFFSETFROM:-0500
TZOFFSETTO:-0600
TZNAME:CST
DTSTART:20211107T070000
END:STANDARD
BEGIN:DAYLIGHT
TZOFFSETFROM:-0600
TZOFFSETTO:-0500
TZNAME:CDT
DTSTART:20220313T080000
END:DAYLIGHT
BEGIN:STANDARD
TZOFFSETFROM:-0500
TZOFFSETTO:-0600
TZNAME:CST
DTSTART:20221106T070000
END:STANDARD
BEGIN:DAYLIGHT
TZOFFSETFROM:-0600
TZOFFSETTO:-0500
TZNAME:CDT
DTSTART:20230312T080000
END:DAYLIGHT
BEGIN:STANDARD
TZOFFSETFROM:-0500
TZOFFSETTO:-0600
TZNAME:CST
DTSTART:20231105T070000
END:STANDARD
END:VTIMEZONE
BEGIN:VEVENT
DTSTART;VALUE=DATE:20220717
DTEND;VALUE=DATE:20220718
DTSTAMP:20260423T014436
CREATED:20211027T173135Z
LAST-MODIFIED:20211027T173135Z
UID:24678-1658016000-1658102399@sedariders.org
SUMMARY:LEC JUST JUMPERS AND DERBY CROSS #3
DESCRIPTION:
URL:https://sedariders.org/event/lec-just-jumpers-and-derby-cross-3/
LOCATION:Amen Corner Farm\, 27519 Polo Rd\, Folsom\, LA\, 70437\, United States
CATEGORIES:Courtesy Event
ORGANIZER;CN="Sharon Londono":MAILTO:lagniappefarm@bellsouth.net
END:VEVENT
END:VCALENDAR